BEGIN:VCALENDAR
VERSION:2.0
PRODID:-//jEvents 2.0 for Joomla//EN
CALSCALE:GREGORIAN
METHOD:PUBLISH
BEGIN:VTIMEZONE
TZID:Europe/Lisbon
BEGIN:STANDARD
DTSTART:20181206T000000
RDATE:20190331T020000
TZOFFSETFROM:+0100
TZOFFSETTO:+0000
TZNAME:Europe/Lisbon WET
END:STANDARD
BEGIN:STANDARD
DTSTART:20191027T010000
RDATE:20200329T020000
TZOFFSETFROM:+0100
TZOFFSETTO:+0000
TZNAME:Europe/Lisbon WET
END:STANDARD
BEGIN:STANDARD
DTSTART:20201025T010000
RDATE:20210328T020000
TZOFFSETFROM:+0100
TZOFFSETTO:+0000
TZNAME:Europe/Lisbon WET
END:STANDARD
BEGIN:DAYLIGHT
DTSTART:20190331T020000
RDATE:20191027T010000
TZOFFSETFROM:+0000
TZOFFSETTO:+0100
TZNAME:Europe/Lisbon WEST
END:DAYLIGHT
BEGIN:DAYLIGHT
DTSTART:20200329T020000
RDATE:20201025T010000
TZOFFSETFROM:+0000
TZOFFSETTO:+0100
TZNAME:Europe/Lisbon WEST
END:DAYLIGHT
END:VTIMEZONE
BEGIN:VEVENT
UID:8232d0010a7b7821ffb6eea468f65139
CATEGORIES:Santos
SUMMARY:Santo Ambrósio de Milão
DESCRIPTION;ENCODING=QUOTED-PRINTABLE:\n\nSanto Ambrósio nasceu em Trèves, actualmente território da Alemanha no 
 ano de 340 e faleceu em Milão a 4 de Abril de 397. É também conhecido como 
 Santo Aurélio Ambrósio seu nome de baptismo. Era filho de Aurélio Ambrósio,
  prefeito pretoriano da Gália. A mãe de S. Aurélio Ambrósio é descrita como
  inteligente e piedosa. S. Aurélio Ambrósio é irmão de São Sátiro (http://w
 ww.paroquia-almancil.pt/utilidades/vida-dos-santos/icalrepeat.detail/2018/0
 9/17/47692/-/s-s%C3%A1tiro.html) e de Santa Marcelina (http://www.paroquia-
 almancil.pt/utilidades/vida-dos-santos/icalrepeat.detail/2018/07/17/47610/-
 /santa-marcelina.html).\nAinda criança, Santo Ambrósio foi picado por um en
 xame de abelhas enquanto dormia no berço e estas deixaram para trás uma got
 a de mel. O seu pai considerou este facto um sinal da futura eloquência de 
 Santo Ambrósio.\nDepois da morte prematura do pai, Ambrósio seguiu-o na pro
 fissão. Estudou em Roma, literatura, direito e retórica. Foi membro do cons
 elho do prefeito pretoriano da Itália, Sexto Cláudio Petrônio Probo e mais 
 tarde foi nomeado, prefeito consular (governador) de Ligúria e Emília, cuja
  capital era Mediolano.\nSanto Ambrósio permaneceu na função até 374, quand
 o se dá a morte do bispo Auxêncio de Milão. Santo Ambrósio tentando evitar 
 um conflito nas novas eleições eclesiásticas fez um discurso firme e sensat
 o. No final do seu discurso, o povo aclamou-o como bispo. Surpreso, Santo A
 mbrósio recusou, afirmando que não era a sua intenção, até porque era um pe
 cador e ainda não era baptizado, encontrando-se a fazer preparação para rec
 eber esse sacramento. Contudo de nada adiantou, Santo Ambrósio foi baptizad
 o e consagrado bispo num curto espaço de tempo.\nComo bispo, Ambrósio imedi
 atamente adotou um estilo de vida asceta (busca pelo desenvolvimento espiri
 tual), dedicando o seu dinheiro para os pobres, doando todas suas terras - 
 apenas uma parte foi reservada para a sua irmã Marcelina. \nA marca do seu 
 apostolado foi impressa pela importância que deu aos valores da virgindade 
 de Maria e dos mártires de Cristo. \nSanto Ambrósio teve um papel important
 e na conversão de Santo Agostinho (http://www.paroquia-almancil.pt/utilidad
 es/vida-dos-santos/icalrepeat.detail/2018/08/28/20411/-/s-agostinho.html).\
 nSanto Ambrósio rogai por nós!\n
DTSTAMP:20260419T165930Z
DTSTART;TZID=Europe/Lisbon;VALUE=DATE:20191207
DTEND;TZID=Europe/Lisbon;VALUE=DATE:20191208
SEQUENCE:0
TRANSP:OPAQUE
END:VEVENT
END:VCALENDAR