BEGIN:VCALENDAR
VERSION:2.0
PRODID:-//jEvents 2.0 for Joomla//EN
CALSCALE:GREGORIAN
METHOD:PUBLISH
BEGIN:VTIMEZONE
TZID:Europe/Lisbon
END:VTIMEZONE
BEGIN:VEVENT
UID:72f54a6eb82e0682c8bab7eb6195c210
CATEGORIES:Santos
SUMMARY:Beato Adolfo Kolping
DESCRIPTION;ENCODING=QUOTED-PRINTABLE:\n\n\nBeato Adolfo Kolping, nasceu a 8 de Dezembro de 1813 em Kerpen, uma c
 idade perto de Colónia, Alemanha e faleceu a 4 de Dezembro de 1865 na cidad
 e de Colónia.\nAdolfo Kolping tornou-se aprendiz de sapateiro com 13 anos. 
 Trabalhou durante dez anos neste ofício. Sempre que viajava Adolfo Kolping 
 deparava-se muitas vezes com uma triste realidade na sociedade, sentindo mu
 ita vontade em contribuir para que toda essa situação mudasse para melhor. 
 Aos 23 anos, decide finalizar seus estudos e ingressa no Colégio São Marcel
 o, em Colónia, pois tinha a intenção de se tornar padre. Estudou teologia e
 m Bonn e Munique. A 13 de Abril de 1845, Adolfo Kolping foi ordenado Sacerd
 ote na Igreja dos Minoritas, em Colónia e a sua primeira função foi vigário
  paroquial em Wuppertal-Elberfeld.\nAí Adolfo Kolping deparou-se com a misé
 ria dos trabalhadores por causa da mudança social da industrialização. Em E
 lberfeld, Adolfo Kolping conheceu a associação de jovens artesãos, fundada 
 pouco antes pelo professor Johann Gregor Breuer, e foi nomeado seu assessor
  eclesiástico (diretor espiritual). Adolfo Kolping reconheceu que este tipo
  de associação seria um meio adequado para resolver os problemas sociais.\n
 Assim, no dia 6 de Maio de 1849 o Padre Adolfo Kolping inicia com um pequen
 o grupo de jovens a Associação dos Artífices, que viria a ser a semente que
  leva hoje o nome de Obra Kolping. Nos anos seguintes, Adolfo Kolping dedic
 ou-se de corpo e alma à sua associação, viajando, estabelecendo contatos, d
 ando palestras, escrevendo, orientando, organizando grupos.\nFundou 418 ass
 ociações de trabalhadores similares às de Colónia, em sete países da Europa
 .\nAdolfo Kolping foi beatificado a 27 de Outubro de 1991 pelo Papa João Pa
 ulo II.\n
DTSTAMP:20260420T034216Z
DTSTART;TZID=Europe/Lisbon;VALUE=DATE:20221206
DTEND;TZID=Europe/Lisbon;VALUE=DATE:20221207
SEQUENCE:0
TRANSP:OPAQUE
END:VEVENT
END:VCALENDAR