BEGIN:VCALENDAR
VERSION:2.0
PRODID:-//jEvents 2.0 for Joomla//EN
CALSCALE:GREGORIAN
METHOD:PUBLISH
BEGIN:VTIMEZONE
TZID:Europe/Lisbon
END:VTIMEZONE
BEGIN:VEVENT
UID:b0952abd5728ea31bda9b4a31d992e7f
CATEGORIES:Santos
SUMMARY:Beato Bartolomeu Fanti
DESCRIPTION;ENCODING=QUOTED-PRINTABLE:\n\n\nBeato Bartolomeu Fanti nasceu em Mântua (Itália), no ano de 1428 e fa
 leceu na mesma cidade em 1495. \nBartolomeu Fanti entrou para a Ordem Carme
 lita aos dezassete anos e em 1452 já era sacerdote Carmelita da Congregação
  Mantuana. A 28 de Fevereiro de 1452, o Beato Bartolomeu Fanti torna-se mem
 bro da Confraria da Bem-Aventurada Virgem Maria na igreja carmelita da sua 
 cidade e a 1 de Janeiro de 1460 torna-se o diretor espiritual e reitor da m
 esma. \nEscreveu a Regra e Estatutos, da Confraria dedicando-se a esta tare
 fa com fervor e zelo, como se fazia necessário devido a importância social 
 e religiosa da mesma.\nHumilde e manso, foi para todos um exemplo de oração
 , generosidade e fidelidade no serviço à Deus. Distinguiu-se por um grande 
 e profundo amor à Eucaristia, centro de sua vida apostólica.\nFoi mestre de
  noviciado do Beato Batista Mantovano, grande poeta e teólogo carmelitano, 
 que fala dele como &ldquo;um santo guia e mestre espiritual&rdquo;.\nFoi be
 atificado pelo Papa Pio X a 18 de Março de 1909.\n
DTSTAMP:20260423T082724Z
DTSTART;TZID=Europe/Lisbon;VALUE=DATE:20261205
DTEND;TZID=Europe/Lisbon;VALUE=DATE:20261206
SEQUENCE:0
TRANSP:OPAQUE
END:VEVENT
END:VCALENDAR