BEGIN:VCALENDAR
VERSION:2.0
PRODID:-//jEvents 2.0 for Joomla//EN
CALSCALE:GREGORIAN
METHOD:PUBLISH
BEGIN:VTIMEZONE
TZID:Europe/Lisbon
BEGIN:STANDARD
DTSTART:20150103T000000
RDATE:20150329T020000
TZOFFSETFROM:+0100
TZOFFSETTO:+0000
TZNAME:Europe/Lisbon WET
END:STANDARD
BEGIN:STANDARD
DTSTART:20151025T010000
RDATE:20160327T020000
TZOFFSETFROM:+0100
TZOFFSETTO:+0000
TZNAME:Europe/Lisbon WET
END:STANDARD
BEGIN:STANDARD
DTSTART:20161030T010000
RDATE:20170326T020000
TZOFFSETFROM:+0100
TZOFFSETTO:+0000
TZNAME:Europe/Lisbon WET
END:STANDARD
BEGIN:STANDARD
DTSTART:20171029T010000
RDATE:20180325T020000
TZOFFSETFROM:+0100
TZOFFSETTO:+0000
TZNAME:Europe/Lisbon WET
END:STANDARD
BEGIN:STANDARD
DTSTART:20181028T010000
RDATE:20190331T020000
TZOFFSETFROM:+0100
TZOFFSETTO:+0000
TZNAME:Europe/Lisbon WET
END:STANDARD
BEGIN:STANDARD
DTSTART:20191027T010000
RDATE:20200329T020000
TZOFFSETFROM:+0100
TZOFFSETTO:+0000
TZNAME:Europe/Lisbon WET
END:STANDARD
BEGIN:STANDARD
DTSTART:20201025T010000
RDATE:20210328T020000
TZOFFSETFROM:+0100
TZOFFSETTO:+0000
TZNAME:Europe/Lisbon WET
END:STANDARD
BEGIN:DAYLIGHT
DTSTART:20150329T020000
RDATE:20151025T010000
TZOFFSETFROM:+0000
TZOFFSETTO:+0100
TZNAME:Europe/Lisbon WEST
END:DAYLIGHT
BEGIN:DAYLIGHT
DTSTART:20160327T020000
RDATE:20161030T010000
TZOFFSETFROM:+0000
TZOFFSETTO:+0100
TZNAME:Europe/Lisbon WEST
END:DAYLIGHT
BEGIN:DAYLIGHT
DTSTART:20170326T020000
RDATE:20171029T010000
TZOFFSETFROM:+0000
TZOFFSETTO:+0100
TZNAME:Europe/Lisbon WEST
END:DAYLIGHT
BEGIN:DAYLIGHT
DTSTART:20180325T020000
RDATE:20181028T010000
TZOFFSETFROM:+0000
TZOFFSETTO:+0100
TZNAME:Europe/Lisbon WEST
END:DAYLIGHT
BEGIN:DAYLIGHT
DTSTART:20190331T020000
RDATE:20191027T010000
TZOFFSETFROM:+0000
TZOFFSETTO:+0100
TZNAME:Europe/Lisbon WEST
END:DAYLIGHT
BEGIN:DAYLIGHT
DTSTART:20200329T020000
RDATE:20201025T010000
TZOFFSETFROM:+0000
TZOFFSETTO:+0100
TZNAME:Europe/Lisbon WEST
END:DAYLIGHT
END:VTIMEZONE
BEGIN:VEVENT
UID:0027cc79f9aab5ed8ded8b859c31a504
CATEGORIES:Santos
SUMMARY:Santa Isabel Ana Seton
DESCRIPTION;ENCODING=QUOTED-PRINTABLE:\n\n\n\n\nSanta Isabel Ana Seton é a mais antiga santa nascida nos Estados 
 Unidos. Foi criada numa abastada família episcopaliana e casou-se aos 20 an
 os com um mercador, tendo sido mãe de cinco filhoos. \n\n\nEnvolveu-se em t
 rabalho social caridoso e em 1797 criou a Sociedade para o Apoio de Viúvas 
 e Crianças Pobres, mas o marido ficou repentinamente falido, após o que ela
  enviuvou.\n\n\nNo ano 1805, Santa Isabel Ana Seton, converteu-se ao catoli
 cismo e foi convidada a fundar uma escola feminina em Baltimore. Em 1809 cr
 iou as Irmãs da Caridade de S. José, a primeira sociedade religiosa america
 na particular. Isso levou à criação de outra escola para crianças indigente
 s em Em itsburg, Maryland. Foi eleita superior e com 18 companheiras, tomou
  os votos no ano de 1810.\n\n\n\n
X-EXTRAINFO:Nascimento: ano 1774 d.C. em Nova Iorque, EUA\nMorte: ano 1821 d.C. em Emmi
 tsburg, Maryland, EUA\n\nCuriosidade: Considerada criadora do sistema escol
 ar paroquial católico dos EUA
DTSTAMP:20260420T164941Z
DTSTART;TZID=Europe/Lisbon;VALUE=DATE:20160104
DTEND;TZID=Europe/Lisbon;VALUE=DATE:20160105
SEQUENCE:0
TRANSP:OPAQUE
END:VEVENT
END:VCALENDAR