BEGIN:VCALENDAR
VERSION:2.0
PRODID:-//jEvents 2.0 for Joomla//EN
CALSCALE:GREGORIAN
METHOD:PUBLISH
BEGIN:VTIMEZONE
TZID:Europe/Lisbon
END:VTIMEZONE
BEGIN:VEVENT
UID:6bec11b80e91579a92de7277aa12e0d1
CATEGORIES:Santos
SUMMARY:São João Damasceno
DESCRIPTION;ENCODING=QUOTED-PRINTABLE:\n\n\nS. João Damasceno também conhecido como João de Damasco, nasceu no an
 o de 675 em Damasco (Síria) e faleceu a 4 de Dezembro de 749. S. João Damas
 ceno nasceu numa proeminente família conhecida como Almançor (em árabe: "vi
 toriosa") em Damasco. O seu nome completo era Iuana/Iana ibne Almançor ibne
  Sarjum, em homenagem ao seu avô. Assim S. João Damasceno tinha dois nomes:
  João, o seu nome cristão, e o nome árabe, citado como Cureim (Qurein), Ian
 a (Yana) ou Iaana (Yahanna). Pensa-se que S. João Damasceno tenho sido cria
 do de forma bilíngue\nNão havendo certezas, acredita-se que João tenha se t
 ornado monge em Mar Saba (Cisjordânia) e que foi ordenado sacerdote em 735.
   \nAinda jovem e ajudante do pai, S. João Damasceno gozava de muitos privi
 légios financeiros, mas ao crescer no amor ao Cristo pobre, deu atenção a P
 alavra que mostra a dificuldade dos ricos (apegados) para entrarem no Reino
  dos Céus. Assim, num impulso para a santidade, renunciou todos os bens e d
 eu aos pobres. Preferiu São João uma vida de maus tratos ao se entregar as 
 &ldquo;delícias venenosas&rdquo; do pecado.\nRetirou-se para um convento de
  São Sabas perto de Jerusalém e passou a viver na humildade, caridade e ale
 gria. Escreveu inúmeras obras tratando de vários assuntos sobre teologia. \
 nCom escritos defendeu principalmente a Igreja contra os iconoclastas, que 
 condenavam o uso de imagens nas Igrejas.\nCerta vez, os hereges prenderam S
 ão João e cortaram-lhe a mão direita a fim de não mais escrever, mas por in
 tervenção de Nossa Senhora foi curado. \nJoão morreu em 749 e foi logo reco
 nhecido como santo. Foi declarado Doutor da Igreja pelo Papa Leão XIII em 1
 890.\n \nSão João Damasceno, rogai por nós!\n
DTSTAMP:20260423T025141Z
DTSTART;TZID=Europe/Lisbon;VALUE=DATE:20251204
DTEND;TZID=Europe/Lisbon;VALUE=DATE:20251205
SEQUENCE:0
TRANSP:OPAQUE
END:VEVENT
END:VCALENDAR