BEGIN:VCALENDAR
VERSION:2.0
PRODID:-//jEvents 2.0 for Joomla//EN
CALSCALE:GREGORIAN
METHOD:PUBLISH
BEGIN:VTIMEZONE
TZID:Europe/Lisbon
BEGIN:STANDARD
DTSTART:20161201T000000
RDATE:20170326T020000
TZOFFSETFROM:+0100
TZOFFSETTO:+0000
TZNAME:Europe/Lisbon WET
END:STANDARD
BEGIN:STANDARD
DTSTART:20171029T010000
RDATE:20180325T020000
TZOFFSETFROM:+0100
TZOFFSETTO:+0000
TZNAME:Europe/Lisbon WET
END:STANDARD
BEGIN:STANDARD
DTSTART:20181028T010000
RDATE:20190331T020000
TZOFFSETFROM:+0100
TZOFFSETTO:+0000
TZNAME:Europe/Lisbon WET
END:STANDARD
BEGIN:STANDARD
DTSTART:20191027T010000
RDATE:20200329T020000
TZOFFSETFROM:+0100
TZOFFSETTO:+0000
TZNAME:Europe/Lisbon WET
END:STANDARD
BEGIN:STANDARD
DTSTART:20201025T010000
RDATE:20210328T020000
TZOFFSETFROM:+0100
TZOFFSETTO:+0000
TZNAME:Europe/Lisbon WET
END:STANDARD
BEGIN:DAYLIGHT
DTSTART:20170326T020000
RDATE:20171029T010000
TZOFFSETFROM:+0000
TZOFFSETTO:+0100
TZNAME:Europe/Lisbon WEST
END:DAYLIGHT
BEGIN:DAYLIGHT
DTSTART:20180325T020000
RDATE:20181028T010000
TZOFFSETFROM:+0000
TZOFFSETTO:+0100
TZNAME:Europe/Lisbon WEST
END:DAYLIGHT
BEGIN:DAYLIGHT
DTSTART:20190331T020000
RDATE:20191027T010000
TZOFFSETFROM:+0000
TZOFFSETTO:+0100
TZNAME:Europe/Lisbon WEST
END:DAYLIGHT
BEGIN:DAYLIGHT
DTSTART:20200329T020000
RDATE:20201025T010000
TZOFFSETFROM:+0000
TZOFFSETTO:+0100
TZNAME:Europe/Lisbon WEST
END:DAYLIGHT
END:VTIMEZONE
BEGIN:VEVENT
UID:1695af28d832733300bd0cfda01c0c5e
CATEGORIES:Santos
SUMMARY:São Cromácio
DESCRIPTION;ENCODING=QUOTED-PRINTABLE:\n\n\nSão Cromácio nasceu no ano 345 em Aquileia (Itália) e faleceu na mesm
 a cidade no ano de 408. S. Cromácio ficou órfão de pai ainda era criança e 
 foi criado pela mãe e por uma grande quantidade de irmãos e irmãs mais velh
 os.\nS. Cromácio foi ordenado diácono, depois sacerdote e por volta do ano 
 387 ou 388 foi ordenado bispo. Após receber a consagração episcopal, S. Cro
 mácio dedicou-se com valentia e energia a uma exigente tarefa pela extensão
  do campo que havia sido confiado à sua atenção pastoral: a jurisdição ecle
 siástica de Aquileia, que se estendia desde os territórios da atual Suíça, 
 Baviera, Áustria e Eslovênia, até chegar à Hungria.\nÉ possível imaginar co
 mo Cromácio era conhecido e estimado na igreja de seu tempo por um episódio
  da vida de São João Crisóstomo. Quando o bispo de Constantinopla foi exila
 do de sua sede, escreveu três cartas a quem considerava como os mais import
 antes bispos do ocidente para alcançar seu apoio ante os imperadores: uma c
 arta foi escrita ao bispo de Roma, a segunda ao bispo de Milão e a terceira
  ao bispo de Aquileia, ou seja, a S. Cromácio Também para S. Cromácio eram 
 tempos difíceis por causa da precária situação política. \nS. Cromácio foi 
 um sábio mestre e zeloso pastor. Sem ignorar a perfeita construção latina, 
 S. Cromácio prefere recorrer à linguagem popular, rica de imagens facilment
 e compreensíveis. \n S. Cromácio rogai por nós!\n
DTSTAMP:20260419T163444Z
DTSTART;TZID=Europe/Lisbon;VALUE=DATE:20171202
DTEND;TZID=Europe/Lisbon;VALUE=DATE:20171203
SEQUENCE:0
TRANSP:OPAQUE
END:VEVENT
END:VCALENDAR