BEGIN:VCALENDAR
VERSION:2.0
PRODID:-//jEvents 2.0 for Joomla//EN
CALSCALE:GREGORIAN
METHOD:PUBLISH
BEGIN:VTIMEZONE
TZID:Europe/Lisbon
BEGIN:STANDARD
DTSTART:20190114T000000
RDATE:20190331T020000
TZOFFSETFROM:+0100
TZOFFSETTO:+0000
TZNAME:Europe/Lisbon WET
END:STANDARD
BEGIN:STANDARD
DTSTART:20191027T010000
RDATE:20200329T020000
TZOFFSETFROM:+0100
TZOFFSETTO:+0000
TZNAME:Europe/Lisbon WET
END:STANDARD
BEGIN:STANDARD
DTSTART:20201025T010000
RDATE:20210328T020000
TZOFFSETFROM:+0100
TZOFFSETTO:+0000
TZNAME:Europe/Lisbon WET
END:STANDARD
BEGIN:DAYLIGHT
DTSTART:20190331T020000
RDATE:20191027T010000
TZOFFSETFROM:+0000
TZOFFSETTO:+0100
TZNAME:Europe/Lisbon WEST
END:DAYLIGHT
BEGIN:DAYLIGHT
DTSTART:20200329T020000
RDATE:20201025T010000
TZOFFSETFROM:+0000
TZOFFSETTO:+0100
TZNAME:Europe/Lisbon WEST
END:DAYLIGHT
END:VTIMEZONE
BEGIN:VEVENT
UID:45f62755f5d4a54d2527393bea759f4f
CATEGORIES:Santos
SUMMARY:São Berardo e companheiros
DESCRIPTION;ENCODING=QUOTED-PRINTABLE:\n\n\nHoje a igreja celebra os santos mártires Berardo de Leopardi da Carbi
 o, perto de Narni, Acúrcio Vacuzio e Adjuto da diocese de Narni, Pedro de B
 onanti de Sangemini e Otão de Petricchi de Stroncone. São invocados sob o n
 ome São Berardo e companheiros. São Berardo e os companheiros evangelizavam
  pregando sobre o Reino de Deus.\nEm 1219, São Francisco enviou esses missi
 onários para a Espanha, que estava tomada por mouros. Passaram por Portugal
  a pé, com dificuldades. Dependendo apenas da Divina Providência, os santos
  mártires conseguiram chegar a Sevilha. Ali começaram a pregar, principalme
 nte como testemunho de vida. Eram 3 sacerdotes e dois irmãos religiosos que
  incomodaram muitas pessoas ao anunciar o Evangelho.\nAcompanhado pelo test
 emunho, houve quem abrisse o coração para Cristo e as conversões começaram 
 a acontecer. São Berardo e os companheiros chegaram até a pregar para o rei
  mouro, porque, também ele merecia conhecer a beleza do Santo Evangelho, di
 ziam.\nPor influência do rei mouro, São Berardo e os companheiros foram dep
 ortados para Marrocos e, ao chegarem lá, continuaram a evangelizar; uma pre
 gação sobre o reino de Deus, sobre o único amor que pode converter.\nMuitos
  foram os que se converteram e começaram a seguir Cristo e a querer o batis
 mo. Tal facto, fez com que o rei mouro que, influenciado por fanáticos, pre
 ndesse os cinco franciscanos, os açoitasse e decapitasse no ano de 1220.\nS
 ão Francisco, ao saber da morte dos seus filhos espirituais, exultou de ale
 gria, pois eles tinham morrido por amor a Jesus Cristo.\nForam canonizados 
 pelo Papa Sisto IV em 7 de agosto de 1481.\nSão Berardo e companheiros márt
 ires, rogai por nós!\n\n\n\n\n\n
DTSTAMP:20260419T224810Z
DTSTART;TZID=Europe/Lisbon;VALUE=DATE:20200115
DTEND;TZID=Europe/Lisbon;VALUE=DATE:20200116
SEQUENCE:0
TRANSP:OPAQUE
END:VEVENT
END:VCALENDAR