BEGIN:VCALENDAR
VERSION:2.0
PRODID:-//jEvents 2.0 for Joomla//EN
CALSCALE:GREGORIAN
METHOD:PUBLISH
BEGIN:VTIMEZONE
TZID:Europe/Lisbon
END:VTIMEZONE
BEGIN:VEVENT
UID:ef3ecc10a474331a1b73b7d0c40f64c1
CATEGORIES:Santos
SUMMARY:São Silvério
DESCRIPTION;ENCODING=QUOTED-PRINTABLE:\n\n\nS. Silvério nasceu por volta do ano de 480 em Frosinone (Itália) e fa
 leceu a 2 de Dezembro de 537. Era filho do Papa Hormisda, que fora casado a
 ntes de se tornar sacerdote (foi ordenado sacerdote depois de se tornar viú
 vo).\nS. Silvério foi eleito Papa a 1 de Junho de 536 e embora fosse apenas
  subdiácono quando se tornou Papa, foi um dos mais valentes defensores do c
 ristianismo, ao enfrentar a imperatriz Teodora. O conflito com a imperatriz
  começou quando esta enviou uma carta a S. Silvério a exigir que este aceit
 asse em Roma, bispos heréticos (heresia = doutrina que se opõe frontalmente
  aos dogmas da Igreja). S. Silvério respondeu com veemência que não obedece
 ria de alguma forma e foi preso por tal facto. Foram-lhe tiradas as vestes 
 papais e foi deportado para Patara, na Ásia.\nEnquanto S. Silvério estava n
 o exílio, o trono de S. Pedro foi assumido pelo antipapa Virgílio, que acei
 tou a imposição da imperatriz de receber os bispos heréticos. Revoltado com
  a situação de S. Silvério, o bispo de Lícia resolveu ir falar diretamente 
 com o imperador Justiniano I. Depois dessa conversa, o imperador ordenou qu
 e S. Silvério regressasse a Roma. Contudo, pouco tempo depois, volta a ser 
 exilado na Ilha de Ponza (Itália). A 11 de Novembro de 537, S. Silvério foi
  forçado a abdicar, assinando um documento no qual renunciava a trono de Sã
 o Pedro em favor de Vigílio. \nConsumido pelas chagas e pela fome, morreu n
 o dia 2 de Dezembro de 537 na Ilha de Ponza.\n\nS. Silvério rogai por nós! 
 \n
DTSTAMP:20260422T225547Z
DTSTART;TZID=Europe/Lisbon;VALUE=DATE:20251202
DTEND;TZID=Europe/Lisbon;VALUE=DATE:20251203
SEQUENCE:0
TRANSP:OPAQUE
END:VEVENT
END:VCALENDAR