BEGIN:VCALENDAR
VERSION:2.0
PRODID:-//jEvents 2.0 for Joomla//EN
CALSCALE:GREGORIAN
METHOD:PUBLISH
BEGIN:VTIMEZONE
TZID:Europe/Lisbon
BEGIN:STANDARD
DTSTART:20181130T000000
RDATE:20190331T020000
TZOFFSETFROM:+0100
TZOFFSETTO:+0000
TZNAME:Europe/Lisbon WET
END:STANDARD
BEGIN:STANDARD
DTSTART:20191027T010000
RDATE:20200329T020000
TZOFFSETFROM:+0100
TZOFFSETTO:+0000
TZNAME:Europe/Lisbon WET
END:STANDARD
BEGIN:STANDARD
DTSTART:20201025T010000
RDATE:20210328T020000
TZOFFSETFROM:+0100
TZOFFSETTO:+0000
TZNAME:Europe/Lisbon WET
END:STANDARD
BEGIN:DAYLIGHT
DTSTART:20190331T020000
RDATE:20191027T010000
TZOFFSETFROM:+0000
TZOFFSETTO:+0100
TZNAME:Europe/Lisbon WEST
END:DAYLIGHT
BEGIN:DAYLIGHT
DTSTART:20200329T020000
RDATE:20201025T010000
TZOFFSETFROM:+0000
TZOFFSETTO:+0100
TZNAME:Europe/Lisbon WEST
END:DAYLIGHT
END:VTIMEZONE
BEGIN:VEVENT
UID:07fed2c49346c7873f27c70e314b13b6
CATEGORIES:Santos
SUMMARY:Beato Carlos Foucauld
DESCRIPTION;ENCODING=QUOTED-PRINTABLE:\n\n\nCarlos de Foucauld (Charles de Foucault em francês) nasceu em Estrasb
 urgo (França) a 15 de setembro de 1858 e faleceu em Tamanrasset (Argélia) a
  1 de Dezembro de 1916. \nFoi um místico contemplativo, referência contempo
 rânea da "espiritualidade do deserto". A Sua personalidade multifacetada ma
 nifestou-se como militar na Argélia e como explorador e geógrafo em Marroco
 s, mais tarde em busca de espiritualidade, em trânsito itinerante pela Fran
 ça e pelo Império Otomano e no seu sacerdócio no Saara argelino, onde viveu
  os últimos quinze anos de sua vida.\nDescendente de uma família aristocrát
 ica que carregava o título de "Vicomte de Foucault", Carlos ficou órfão de 
 pai e mãe aos seis anos e tinha migrado com o avô para desarmar a Guerra Fr
 anco-Prussiana. Em 1876, Carlos de Foucauld entrou na Academia de Oficiais 
 de Saint-Cyr.Enviado como oficial em 1880 para Sétif, na Argélia, foi demit
 ido no ano seguinte por "indisciplina, acompanhada de má conduta notória". 
 Mais tarde foi reinstituído para participar de uma guerra contra o Sheikh B
 ouamama. Em 1882, embarcou na exploração de Marrocos posando como judeu. A 
 qualidade do trabalho de reconhecimento e registro de dois territórios marr
 oquinos valeu-lhe uma medalha de ouro da Geography Society of Paris.\nO seu
  encontro com a confissão com o padre Henri Huvelin em 30 de Outubro de 188
 6 produziu uma mudança decisiva na sua vida. Em Novembro de 1888, Carlos Fo
 ucauld fez uma peregrinação na Terra Santa. \nEntre 1897 e 1900, viveu na T
 erra Santa, procurando um ideal de pobreza, sacrifício e penitência, levand
 o radicalmente cada vez mais a uma vida hermitica. Foi ordenado sacerdote e
 m Viviers em 9 de Junho de 1901, e decidiu instalar-se em Béni Abbès, no Sa
 ara argelino, onde lutou contra o que chamou de "monstruosidade da escravid
 ão". Queria estabelecer uma nova congregação, mas ninguém se juntou a ele. 
 \nEm 1 de dezembro de 1916, Charles de Foucauld foi assassinado.\nFoi beati
 ficado pelo Papa Bento XVI a 13 de Novembro de 2005.\n
DTSTAMP:20260419T163445Z
DTSTART;TZID=Europe/Lisbon;VALUE=DATE:20191201
DTEND;TZID=Europe/Lisbon;VALUE=DATE:20191202
SEQUENCE:0
TRANSP:OPAQUE
END:VEVENT
END:VCALENDAR