BEGIN:VCALENDAR
VERSION:2.0
PRODID:-//jEvents 2.0 for Joomla//EN
CALSCALE:GREGORIAN
METHOD:PUBLISH
BEGIN:VTIMEZONE
TZID:Europe/Lisbon
END:VTIMEZONE
BEGIN:VEVENT
UID:f6941d7c3d835db12991d1d8926f19fb
CATEGORIES:Santos
SUMMARY:São João de Deus
DESCRIPTION;ENCODING=QUOTED-PRINTABLE:São João de Deus nasceu no ano de 1495 em Montemor-o-Novo (Portugal) e fale
 ceu a 8 de março de 1550 em Granada (Espanha). Era filho de André Cidade e 
 de Teresa Duarte e foi baptizado como João Cidade. Os seus pais eram comerc
 iantes de fruta e desde cedo teriam educado o filho segundo os valores cris
 tãos.\nAos oito anos, São João de Deus ouviu, de um padre em visita, sobre 
 as aventuras que o poderiam esperar, na descoberta de novos mundos. Nessa m
 esma noite terá fugido de casa para viajar com o padre e nunca mais viu os 
 seus pais. Vinte dias depois da fuga de São João de Deus a sua mãe morreu d
 e tristeza e o seu pai André Cidade pai foi para um convento de franciscano
 s onde viria a falecer em data incerta.\nSão João de Deus e o padre foram v
 ivendo da ajuda popular de aldeia em aldeia até que João adoeceu. Terão cam
 inhado a pé ao lado de saltimbancos e mendigos. Perto da cidade de Toledo, 
 o padre entregou o pequeno João a um bom homem, chamado Francisco Majoral. 
 Este administrava os rebanhos do Conde de Oropesa, afamado por ser caridoso
 . Nessa época o menino recebeu o apelido de &ldquo;João de Deus&rdquo;, por
 que ninguém sabia ao certo quem ele era e, muito menos, de onde vinha. \nDu
 rante seis anos Francisco Majoral educou João como a um filho, juntamente c
 om a pequenina filha que a família tinha. Depois João trabalhou para Franci
 sco como pastor nas montanhas até aos 27 anos. A relação entre eles era qua
 se como a de pai e filho. Porém, quando a filha de Francisco atingiu idade 
 para casar-se, Francisco quis casá-la com João de Deus. Sentindo-se pressio
 nado para casar com a filha do regente, a qual amava como irmã, São João de
  Deus foi-se embora e alistou-se no exército espanhol na guerra contra Fran
 ça, corria então o ano de 1523.\nComo soldado, São João de Deus era tudo me
 nos modelo de santidade, participando no jogo, na bebida e nas pilhagens qu
 e os seus camaradas apreciavam. Como soldado, lutou na batalha de Paiva, co
 ntra o rei Francisco I e o seu exército. Vencedor, abandonou o exército e g
 anhou o mundo.\nPeregrinou por toda a Europa. Depois, foi para a África. Lá
 , fez-se vendedor ambulante na cidade de Gibraltar. Então, como um filho pr
 ódigo, voltou à cidade onde nascera. Em Portugal apenas encontra um tio e s
 em nada que o prendesse à terra natal voltou para Espanha.\nQuando decidiu,
  aos trinta e oito anos, que deveria ir para África para resgatar cristãos 
 cativos, deixou tudo para trás e dirigiu-se ao porto de Gibraltar. Estando 
 na doca à espera do seu navio, encontrou uma família visivelmente triste e 
 desgostosa. Tendo descoberto que eram uma família nobre que partia para o e
 xílio em África devido a intrigas políticas, São João de Deus abandonou o s
 eu plano original e voluntariou-se como seu servo. A família adoeceu, quand
 o chegou ao exílio, e João manteve-os, não só cuidando da sua doença, mas t
 ambém ganhando dinheiro para a sua alimentação. O seu trabalho na construçã
 o de fortificações era castigador e desumano, sendo os trabalhadores espanc
 ados e maltratados por pessoas que se autointitulavam de católicos. Vendo c
 ristãos a agir desta forma tão inquietante, João viu a sua fé abalada. Um p
 adre aconselhou-o a não acusar a Igreja pelos seus atos e a partir para Esp
 anha imediatamente. João regressou &ndash; mas apenas após ter a certeza de
  que a sua família de adoção recebera o perdão.\nEm Espanha passou os seus 
 dias carregando navios e as suas noites visitando igrejas e lendo livros es
 pirituais. A leitura deu-lhe tamanho prazer, que decidiu dever partilhar es
 sa alegria com os outros. Deixou o seu trabalho e tornou-se vendedor ambula
 nte de livros, viajando de vila em vila vendendo livros e postais religioso
 s. Aos quarenta e um anos São João de Deus teve a visão de um menino que lh
 e apareceu com uma romã (granada em castelhano) na mão e lhe disse: &ldquo;
 João, Granada será a tua cruz&rdquo;. São João de Deus partiu então para Gr
 anada onde viria a abrir uma livraria.\nCerto dia, São João de Deus ouviu u
 m sermão de São João de Ávila (http://www.paroquia-almancil.pt/utilidades/v
 ida-dos-santos/icalrepeat.detail/2018/05/10/62872/-/s%C3%A3o-jo%C3%A3o-de-%
 C3%A1vila.html) sobre arrependimento e converteu-se (http://www.paroquia-al
 mancil.pt/utilidades/vida-dos-santos/icalrepeat.detail/2019/01/20/5529/-/co
 nvers%C3%A3o-de-s-jo%C3%A3o-de-deus.html). \nO povo, sem compreender ou ria
  dele ou estranhava. São João de Deus não deu importância à atitude dos out
 ros. Distribuiu os bens que tinha acumulado aos pobres e iniciou uma vida d
 e penitências rigorosas, tendo sido por isso internado num hospício. Lá, re
 cebeu tratamento desumano. Devido aos tratamentos que recebeu São João de D
 eus resolveu criar a Casa Hospitalar de João de Deus curando muitos doentes
  mentais. Com isso, nascia uma Ordem religiosa, que ele chamou de Ordem dos
  Irmãos Hospitaleiros.\nPor ter sido tratado como louco, João de Deus conhe
 cia em profundidade a difícil situação dos doentes mentais. Para cuidar dos
  doentes mentais, São João de Deus usava um processo próprio, que unia a co
 nversa, o acolhimento, a oração, a cura interior. Por tudo isso, ele é cons
 iderado o precursor do método de tratamento psicanalítico e da compreensão 
 de que as doenças têm origens psicossomáticas, ou seja, uma alma ou mente p
 erturbada gera doenças físicas.\nO sucesso, da obra de São João de Deus foi
  tão grande que, acima de oitenta casas-hospitalares foram fundadas pela Eu
 ropa. A princípio, elas abrigavam os doentes mentais e os doentes terminais
 . Depois, São João de Deus e seus seguidores começaram a atender todos os t
 ipos de doentes. Seu lema resumia uma verdade para toda a vida: "fazei o be
 m, irmãos, para o bem de vós mesmos".\nSão João de Deus faleceu a 8 de març
 o de 1550.\nSão João de Deus foi canonizado a 16 de outubro de 1690 pelo Pa
 pa Alexandre VIII, sendo no entanto a sua bula expedida após a sua morte, p
 elo seu sucessor Papa Inocêncio XII.\nÉ o padroeiro dos hospitais, dos doen
 tes e dos enfermeiros.\n \nSão João de Deus rogai por nós!\n \n\n
DTSTAMP:20260422T023022Z
DTSTART;TZID=Europe/Lisbon;VALUE=DATE:20230308
DTEND;TZID=Europe/Lisbon;VALUE=DATE:20230309
SEQUENCE:0
TRANSP:OPAQUE
END:VEVENT
END:VCALENDAR