BEGIN:VCALENDAR
VERSION:2.0
PRODID:-//jEvents 2.0 for Joomla//EN
CALSCALE:GREGORIAN
METHOD:PUBLISH
BEGIN:VTIMEZONE
TZID:Europe/Lisbon
END:VTIMEZONE
BEGIN:VEVENT
UID:cd0845838b5a7905be1eb2099181799a
CATEGORIES:Santos
SUMMARY:Beato Luís Variara
DESCRIPTION;ENCODING=QUOTED-PRINTABLE:O Beato Luís Variara nasceu em Viaregi, na província de Asti, Itália, em 18
 75. A família do Beato Luís Variara é profundamente cristã.\nO seu pai, tin
 ha ouvido falar de Dom Bosco em 1856 quando se deslocara ao povoado para pr
 egar uma missão. Então, decidiu o Beato a Valdocco para que continuasse ali
  os seus estudos. Dom Bosco morreu quatro meses depois de conhecer Luís Var
 iara, no entanto esse espaço de tempo bastou para marcar o Beato Luís Varia
 ra para toda a vida.\nO Beato Luís Variara entrou para o noviciado em 17 de
  agosto de 1891. Luís Variara estudou filosofia em Valsalice, onde conheceu
  o Padre André Beltrami.\nO Beato Luís Variara trabalhou a partir de 6 de a
 gosto de 1894, num leprosário com 2 mil habitantes, dos quais 800 era lepro
 sos e rapidamente se tornou a alma dos doentes em principal das crianças. O
 rganizou uma banda musical no leprosário.\nVeio a ser ordenado sacerdote no
  ano de 1898 e revelou-se um excelente diretor espiritual.\n Foi beatificad
 o pelo Papa João Paulo II a 14 de abril de 2002.\n \nNascimento: 15 de jane
 iro do ano 1875 d.C., em Viaregi, Asti, Itália\nMorte: 01 de fevereiro de 1
 923 d.C: em Cucuta, Colômbia\n\n \n
DTSTAMP:20260420T121738Z
DTSTART;TZID=Europe/Lisbon;VALUE=DATE:20220115
DTEND;TZID=Europe/Lisbon;VALUE=DATE:20220116
SEQUENCE:0
TRANSP:OPAQUE
END:VEVENT
END:VCALENDAR