BEGIN:VCALENDAR
VERSION:2.0
PRODID:-//jEvents 2.0 for Joomla//EN
CALSCALE:GREGORIAN
METHOD:PUBLISH
BEGIN:VTIMEZONE
TZID:Europe/Lisbon
END:VTIMEZONE
BEGIN:VEVENT
UID:5a92da5c90b54ce96a61b35db3b5075c
CATEGORIES:Santos
SUMMARY:Beato Redento da Cruz
DESCRIPTION;ENCODING=QUOTED-PRINTABLE:\n\n\nBeato Redento da Cruz nasceu em Cunha, Paredes de Coura (Portugal) no
  ano de 1598 e faleceu em Achém (Indonésia) a 29 de Novembro de 1638. Foi b
 aptizado como Tomás Rodrigues da Cunha e era filho de Baltazar Pereira e de
  Maria da Cunha, que pertenciam a uma família nobre e abastada\nCom 19 anos
 , Beato Redento da Cruz embarcou para a Índia e notabilizou-se como soldado
 , cabo de esquadra e finalmente como capitão da praça de Meliapor (antigo t
 erritório português no sudoeste indiano).\nMas apesar dos seus feitos milit
 ares optou antes por aceitar a sua vocação cristã e entra na Ordem dos Carm
 elitas Descalços de Goa, tendo sido enviado para uma residência que esta me
 sma Ordem tinha em Tatta (hoje território do Paquistão), onde recebeu o nom
 e de Redento da Cruz.\nNos finais de Setembro de 1638, foi enviado com o Pa
 dre Dionísio da Natividade (http://www.paroquia-almancil.pt/utilidades/vida
 -dos-santos/icalrepeat.detail/2017/11/29/41804/-/bb-dion%C3%ADsio-da-nativi
 dade.html) a Achem, na Samatra (actual Indonésia), onde chegou a 25 de Outu
 bro. Aí, Beato Redento da Cruz foi denunciado como espião e posto a ferros.
  Os mouros decidiram negociar a libertação dos cativos, mediante a sua conv
 ersão ao Islão. Perante a recusa em negar a sua fé, Beato Redento da Cruz f
 oi condenado a atrozes suplícios e à morte a golpes de azagaia e depois dec
 apitado.\nFoi beatificado, junto com o seu companheiro Dionísio da Nativida
 de, pelo Papa Leão XIII, em 10 de Junho de 1900.\n
DTSTAMP:20260423T211251Z
DTSTART;TZID=Europe/Lisbon;VALUE=DATE:20351129
DTEND;TZID=Europe/Lisbon;VALUE=DATE:20351130
SEQUENCE:0
TRANSP:OPAQUE
END:VEVENT
END:VCALENDAR