BEGIN:VCALENDAR
VERSION:2.0
PRODID:-//jEvents 2.0 for Joomla//EN
CALSCALE:GREGORIAN
METHOD:PUBLISH
BEGIN:VTIMEZONE
TZID:Europe/Lisbon
END:VTIMEZONE
BEGIN:VEVENT
UID:f9b8f8dab1a9a665ca933becff1a6c5a
CATEGORIES:Santos
SUMMARY:Todos os Santos da Ordem Franciscana
DESCRIPTION;ENCODING=QUOTED-PRINTABLE:\n\n\nNo aniversário da aprovação da regra de São Francisco Honório III, no
  dia 29 de a ordem franciscana celebra todos os santos da Ordem. A regra de
  São Francisco Honório III foi aprovada no dia 29 de Novembro de 1223.\nSão
  muitos os Santos, Beatos, Veneráveis e Servos de Deus &ndash; se quisermos
  utilizar esta terminologia canónica &ndash; ou melhor ainda, os irmãos e i
 rmãs, sem nome e sem rosto, que nos limites da sua fragilidade viveram a pe
 rfeição evangélica, fazendo da regra franciscana a norma da sua vida. É um 
 imenso capital de santidade e de amor, muitas vezes desconhecido, outras ve
 zes esquecido, quando não mesmo desprezado pelo mundo! O bem dá menos nas v
 istas do que o mal; no entanto, a história do bem, tantas vezes anônima e d
 espercebida, tem escrito o nome e o rosto de Cristo. É essa história que im
 pede o mundo de cair no desespero e fecunda as atividades da Igreja.\nNo fi
 m do Século XX eram conhecidos 110 santos canonizados da primeira ordem; 9 
 Santas canonizadas da segunda ordem; 53 Santos e Santas canonizados da terc
 eira ordem regular e secular; 161 Religiosos da primeira ordem beatificados
 ; 34 Religiosas da segunda ordem beatificadas; 95 da terceira ordem regular
  e secular, beatificados. Total de membros das ordens franciscanas canoniza
 dos e beatificados 482.\n
DTSTAMP:20260423T032427Z
DTSTART;TZID=Europe/Lisbon;VALUE=DATE:20311129
DTEND;TZID=Europe/Lisbon;VALUE=DATE:20311130
SEQUENCE:0
TRANSP:OPAQUE
END:VEVENT
END:VCALENDAR