BEGIN:VCALENDAR
VERSION:2.0
PRODID:-//jEvents 2.0 for Joomla//EN
CALSCALE:GREGORIAN
METHOD:PUBLISH
BEGIN:VTIMEZONE
TZID:Europe/Lisbon
END:VTIMEZONE
BEGIN:VEVENT
UID:9700a902ef29a51cee24131ed635e43a
CATEGORIES:Santos
SUMMARY:Beato Frederico de Ratisbona
DESCRIPTION;ENCODING=QUOTED-PRINTABLE:\n\n\n\n\nO Beato Frederico nasceu em data desconhecida na cidade de Ratisb
 ona, Alemanha, Alemanha. Faleceu a 29 de Novembro de 1329. Os pais de Frede
 rico de Ratisbona pertenciam à classe média.\nBeato Frederico de Ratisbona 
 entrou na Ordem Agostiniana, como irmão não clérigo no mosteiro de São Nico
 lau em Ratisbona, sua cidade natal. O mosteiro era a comunidade mais import
 ante da Província da Bavária (Alemanha) naquela época, e acolheu o capítulo
  geral da Ordem Agostiniana de 1290. Nele, foi promulgada a primeira Consti
 tuição dos Agostinianos.\nFrederico de Ratisbona serviu a comunidade como c
 arpinteiro e tinha a responsabilidade de prover à casa a lenha necessária p
 ara o uso quotidiano, modesto trabalho levado a cabo durante anos unido a u
 ma profunda vida de oração.\nPouco mais se sabe da vida do Beato Frederico 
 de Ratisbona, o que é lamentável.\nUma lenda conta que um dia, impossibilit
 ado de assistir à missa e estando no mesmo lugar onde se encontrava trabalh
 ando, Frederico recebeu a comunhão das mãos de um anjo.\nNo beatificado pel
 o Papa Pio X a 12 de Maio de 1909.\n
DTSTAMP:20260423T032604Z
DTSTART;TZID=Europe/Lisbon;VALUE=DATE:20311129
DTEND;TZID=Europe/Lisbon;VALUE=DATE:20311130
SEQUENCE:0
TRANSP:OPAQUE
END:VEVENT
END:VCALENDAR