BEGIN:VCALENDAR
VERSION:2.0
PRODID:-//jEvents 2.0 for Joomla//EN
CALSCALE:GREGORIAN
METHOD:PUBLISH
BEGIN:VTIMEZONE
TZID:Europe/Lisbon
END:VTIMEZONE
BEGIN:VEVENT
UID:9c6017a67548ffd197770a2063d27618
CATEGORIES:Santos
SUMMARY:Beata Maria Helena Stollenwerck
DESCRIPTION;ENCODING=QUOTED-PRINTABLE:\n\n\nBeata Maria Helena Stollenwerk nasceu em 28 de Novembro de 1852, na a
 ldeia de Rollesbroich na Alemanha.\nA sua infância foi marcada pela morte d
 e seu pai e pelo cuidado com seus irmãos surdos-mudos. As leituras sobre as
  missões em países não evangelizados tocou Helena profundamente.A Beata Mar
 ia Helena Stollenwerck desde pequena que sonhava ser missionária mas, por c
 ausa da perseguição à Igreja, teve que esperar longos anos, acalentando o s
 eu ideal missionário.\nAos 14 anos foi nomeada promotora da Obra Missionári
 a da Santa Infância na sua paróquia. Sentia-se profundamente atraída pelas 
 crianças da China, a quem procurava meios para ajudar. Aos 16 anos descobri
 u que, através da vida religiosa, poderia alcançar a sua meta. Durante anos
  procurou por uma congregação missionária. Como a Alemanha vivia tempos de 
 perseguição, Helena precisou esperar. \nCom Santo Arnaldo Janssen, Helena f
 oi co-fundadora, em Steyl, das Missionárias Servas do Espírito Santo (1889)
  e das Missionárias Servas do Espírito Santo da Adoração Perpétua (1896). \
 nA intensa veneração ao Espírito Santo foi uma característica da espiritual
 idade de Madre Maria, como também a procura e a submissão à vontade de Deus
 . Outro traço marcante em sua vida foi a veneração ao Sagrado Coração de Je
 sus que ela cultivava junto com a devoção ao Espírito Santo no mistério da 
 Santíssima Trindade. Este amor ao Deus Trino que ardia no seu coração ela q
 ueria difundir e levar aos recantos mais longínquos da terra. \nFaleceu a 0
 3 de Fevereiro de 1900. \nFoi beatificada pelo Papa João Paulo II em 07 de 
 Maio de 1995 em Roma.\n\n\n \n
DTSTAMP:20260422T112417Z
DTSTART;TZID=Europe/Lisbon;VALUE=DATE:20261128
DTEND;TZID=Europe/Lisbon;VALUE=DATE:20261129
SEQUENCE:0
TRANSP:OPAQUE
END:VEVENT
END:VCALENDAR