BEGIN:VCALENDAR
VERSION:2.0
PRODID:-//jEvents 2.0 for Joomla//EN
CALSCALE:GREGORIAN
METHOD:PUBLISH
BEGIN:VTIMEZONE
TZID:Europe/Lisbon
END:VTIMEZONE
BEGIN:VEVENT
UID:b94b7a236849ece917489f5a55888546
CATEGORIES:Santos
SUMMARY:São Plácido
DESCRIPTION;ENCODING=QUOTED-PRINTABLE:A vida de São Plácido está ligada à do seu primo São Mauro, também chamado 
 de Amaro. São várias as circunstâncias que ligam a vida destes primos. Prim
 eiro, porque ambos foram entregues pelos seus pais ao amigo Bento de Nórcia
 , para que recebesse uma boa educação cristã. Depois, porque Amaro salvou S
 ão Plácido da morte, na infância. Nesta ocasião, Bento teve uma visão em qu
 e Plácido se afogava na água de um lago. Então, mandou Amaro correr a imped
 ir o acidente. Ao chegar ao local, Amaro caminhou sobre as águas e retirou 
 Plácido com vida.\nOs pais de São Plácido eram Tertulo e Faustina, nobres e
  ricos. São Plácido tinha três irmãos Eutíquio, Flávia e Vitório. \nSão Plá
 cido tornou-se sacerdote, e foi enviado para a cidade de Messina, na Sícili
 a para construir um mosteiro, do qual foi eleito abade. Plácido optou por c
 onstruí-lo fora dos muros da cidade e ao lado do mosteiro construíu também 
 uma igreja dedicada a São João Batista.\nUm dia, e cheios de saudades, os t
 rês irmãos, foram até Messina visitar São Plácido, ficando hospedados no mo
 steiro. Em setembro do ano de 541, os árabes sarracenos, invadiram o mostei
 ro, desturíndo tudo e matando os monges que encontravam pelo caminho.\nDepo
 is virando-se para os quatro irmãos disseram-lhes que seriam poupados se re
 negassem o seu Deus. Plácido tomou a palavra e disse: "jamais traíremos a f
 é em Cristo e por isto estamos prontos para morrer". Os árabes arrastaram-n
 os então até à praia vizinha e foram todos brutalmente mortos, com as cabeç
 as decepadas. OS corpos foram depois recolhidos pelos monges que sobreviver
 am e sepultados na igreja semidestruída.\nO mosteiro e a igreja foram por d
 iversas vezes destruídos e reconstruídos devido aos bárbaros. Com a explusã
 o definitiva dos árabes da Sicília, em 1099, a paz voltou a reinar e o impe
 rador Rugero, mandou reconstruir tudo. \nPorém, a grande surpresa aconteceu
  quando o no ano de 1588, o superior do mosteiro, verificando que a igreja 
 não tinha ventilação nem luz, mandou abrir três grandes portas. Nas obras, 
 foram descobertos os corpos dos quatro irmãos, e ao ser retirado o corpo de
  São Plácido surgiu uma fonte de água puríssima que não existia no local e 
 que os devotos atribuíram como sendo milagrosa. \nCom o terramoto de Messin
 a em 1918, a igreja e o mosteiro foram totalmente destruídos. \nCuriosidade
 : As relíquias de São Plácido estam na Cripta da Capela do Mosteiro de Mont
 ecassino, onde estão também as do seu primo Amaro.\nEm 1962, a Igreja, dete
 rminou que os dois primos sejam festejados a 15 de janeiro, no entanto e de
 vido ao culto a São Plácido ser muito intenso, os devotos também o celebram
  a 5 de outubro, por esta ser a data que anteriormente era atribuída a São 
 Plácido.\n
DTSTAMP:20260420T152146Z
DTSTART;TZID=Europe/Lisbon;VALUE=DATE:20230115
DTEND;TZID=Europe/Lisbon;VALUE=DATE:20230116
SEQUENCE:0
TRANSP:OPAQUE
END:VEVENT
END:VCALENDAR