BEGIN:VCALENDAR
VERSION:2.0
PRODID:-//jEvents 2.0 for Joomla//EN
CALSCALE:GREGORIAN
METHOD:PUBLISH
BEGIN:VTIMEZONE
TZID:Europe/Lisbon
END:VTIMEZONE
BEGIN:VEVENT
UID:da2452f08629969d87a31b11ce68b551
CATEGORIES:Santos
SUMMARY:Tiago o Persa
DESCRIPTION;ENCODING=QUOTED-PRINTABLE:\n\n\nDa vida de S. Tiago, o persa pouco se sabe. Sabe-se que seria grande 
 amigo do Rei Yezdigerdo I e que foi torturado no ano de 421. Vejamos então 
 porque foi S. Tiago, o persa condenado à morte.\nA segunda perseguição pers
 a teve início por volta do ano 420, devido ao excessivo zelo do bispo Abdia
 s. A principal vítima desta perseguição foi São Tiago que, nesta época, era
  bastante próximo do rei Yezdigerdo I. Quando o rei começou a perseguir os 
 cristãos, S. Tiago, o persa não teve coragem para de assumir a sua fé, pois
  tinha medo de perder a amizade do rei. Então São Tiago (o persa), acabou p
 or dissimular ou abandonar sua fé no Deus Único e verdadeiro que até então 
 professava abertamente, o que causou a aflição de sua mãe e de sua esposa. 
 Quando o rei Yezdigerdo faleceu, a mãe e a esposa de S. Tiago escreveram-lh
 e uma carta a condenar a covardia de sua conduta. Muito impressionado com e
 sta carta, São Tiago começou a compreender melhor a sua falta, deixando de 
 frequentar a corte e renunciando a todas as honras que havia antes procurad
 o e manifestando publicamente o seu arrependimento e sua fé cristã.\nBahram
  (filho do rei Yezdigerdo I) reprovou a ingratidão de S. Tiago, lembrando-l
 he de todas as honras que o seu pai lhe havia conferido. São Tiago responde
 u serenamente: «E onde está agora? O que é feito dele?» Tal resposta aborre
 ceu Bahram que ameaçou São Tiago de submetê-lo a uma morte lenta. Ao que o 
 santo respondeu: «Qualquer que seja o tipo de morte, não passará de um sonh
 o. Queira Deus que eu possa morrer como os justos». Bahram contestou: «A mo
 rte não é um sonho, é o terror dos reis». Disse São Tiago: «A morte assombr
 a aos reis e a todos quanto não conhecem a Deus, pois a esperança dos maus 
 é efémera». Replicou o rei: «Tu, que não adoras o sol, nem a lua, nem o fog
 o, nem a água, que são todos emanações de Deus, nos chamas a nós de malvado
 s?» E São Tiago respondeu: «Eu não te acuso, mas afirmo que dás o nome de D
 eus às criaturas».\nO conselho real decidiu então que, se São Tiago não ren
 unciasse sua fé em Cristo, seria enforcado e os membros de seu corpo dilace
 rados. E a cidade inteira acorreu para presenciar esta nova forma de tortur
 a. Os cristãos começaram então a rezar pedindo a Deus que Tiago perseverass
 e em sua fé. Os carrascos tomaram bruscamente o santo pelos braços como se 
 quisessem desconjuntá-los. Neste gesto já sinalizavam o tipo de morte que e
 sperava por Tiago. Exortaram-no então mais uma vez a abjurar a sua fé e ren
 ovar sua obediência ao rei, evitando assim o castigo. Chegaram a lhe propor
  que fingisse ao menos momentaneamente tal postura e, depois, teria liberda
 de para praticar a sua religião. São Tiago respondeu: «Esta morte que vos p
 arece tão terrível, é um preço muito baixo para comprar a vida eterna». Em 
 seguida, voltando-se para os carrascos, disse-lhes: «O que estão esperando?
 » E, quando os carrascos lhe cortaram um dos dedos de seu pé direito, o már
 tir disse em voz alta: «Salvador dos cristãos, recebe o primeiro ramo desta
  árvore. A árvore irá apodrecer, mas novamente surgirão os brotos e ela se 
 cobrirá de glória. A videira morre durante o inverno, porém, surge renovada
  na primavera. Assim também, o corpo reflorescerá depois de ser podado. E q
 uando lhe cortaram o primeiro dedo de uma de suas mãos disse: «Meu coração 
 se rejubila no Senhor, e minha alma se enche de alegria em Deus meu Salvado
 r». E assim seguiu louvando a Deus conforme iam lhe cortando os dedos. E qu
 ando já não lhe restava nenhum dos dedos das mãos e dos pés, disse aos carr
 ascos: «Já cortaste os pequenos galhos, cortem agora os ramos». E passaram 
 a cortar-lhes os membros, parte por parte. Quando já não lhe restava senão 
 o tronco, Santiago ainda louvava a Deus, até que um dos soldados lhe decapi
 tou.\n
DTSTAMP:20260423T032603Z
DTSTART;TZID=Europe/Lisbon;VALUE=DATE:20311127
DTEND;TZID=Europe/Lisbon;VALUE=DATE:20311128
SEQUENCE:0
TRANSP:OPAQUE
END:VEVENT
END:VCALENDAR