BEGIN:VCALENDAR
VERSION:2.0
PRODID:-//jEvents 2.0 for Joomla//EN
CALSCALE:GREGORIAN
METHOD:PUBLISH
BEGIN:VTIMEZONE
TZID:Europe/Lisbon
END:VTIMEZONE
BEGIN:VEVENT
UID:b80d562adf6d51fc53060397be81de56
CATEGORIES:Santos
SUMMARY:Beato Tiago Alberione
DESCRIPTION;ENCODING=QUOTED-PRINTABLE:\n\n\n\n\n \nO Beato Tiago Alberione, nasceu em San Lorenzo di Fossano, Itá
 lia, no dia 4 de Abril de 1884 e faleceu 26 de Novembro de 1971, em Roma.\n
 Tiago Alberione era filho de uma família de camponeses. Era o quarto filho 
 de seis. Desde pequeno quando lhe perguntavam o que queria ser quando cresc
 esse, respondia: &ldquo;Quero ser padre&rdquo;.\nA família do Beato Tiago A
 lberione muda-se para Cherasco e o Beato entra no seminário diocesano de Br
 a, Itália.\nNo fim do ano de 1900, o jovem Tiago teve a sua primeira experi
 ência mística. Enquanto rezava durante várias horas diante do Santíssimo Sa
 cramento, sentiu-se profundamente comprometido a fazer alguma coisa para o 
 Senhor e para as pessoas do novo século, decidindo servir a Igreja com os n
 ovos meios de comunicação social que lhe eram oferecidos (imprensa e rádio,
  mais tarde cinema e televisão). Estudou Teologia e Filosofia e a 29 de Jun
 ho de 1907 foi ordenado sacerdote. Foi nomeado pároco adjunto em Narzole, o
 nde amadurece a sua reflexão sobre o que pode fazer a mulher comprometida c
 om o apostolado.\nNo seminário foi director espiritual dos novos seminarist
 as e professor, assegurando também a pregação e a catequese nas paróquias d
 a sua diocese, estudando ao mesmo tempo os problemas da sociedade civil do 
 seu tempo, a braços com profundas mudanças e as novas necessidades que se a
 vizinhavam.\nO Beato Tiago Alberione imaginou um novo meio de pregar o evan
 gelho de Jesus Cristo, dentro do espírito de São Paulo, mas com a ajuda dos
  modernos meios de comunicação. Nesse sentido, partindo da ideia de que as 
 obras de Deus fazem-se com os homens de Deus, fundou, no dia 20 de Agosto d
 e 1914, na cidade italiana de Alba, a Pia Sociedade São Paulo, conhecida co
 mo a família Paulina.\nA Família Paulina está hoje presente em mais de 30 p
 aíses. Numerosos são os sectores da sua actividade: edição de livros, revis
 tas e jornais, rádio, cinema e televisão, o audiovisual, a multimédia e a t
 elemática, centros de estudos, de investigação, de formação e de animação.\
 nCom a ajuda da jovem Teresa Merlo, fundou a Congregação das Filhas de São 
 Paulo em 1915. As congregações cresceram com o aparecimento de vocações mas
 culinas e femininas. Em 1918, foram mandadas &ldquo;filhas de São Paulo&rdq
 uo; para Susa, iniciando-se então uma segunda casa.\nEm 1924 foi criada a C
 ongregação das Irmãs Discípulas do Divino Mestre, para o apostolado eucarís
 tico, sacerdotal e litúrgico, dirigida pela irmã Madre superiora Escolástic
 a Rivata.\nEm Outubro de 1938, o Padre Tiago Alberione fundou uma terceira 
 congregação feminina: as Irmãs de Jesus Bom Pastor, chamadas &lsquo;Pastori
 nhas&rsquo;, destinada ao apostolado pastoral.\nA Família Paulina continuar
 á entre 1957 e 1960 com a fundação de uma quarta congregação feminina, o In
 stituto Rainha dos Apóstolos para as Vocações, ditas Irmãs Apostolinas e cr
 iação dos Institutos de vida secular consagrada: São Gabriel Arcanjo, Nossa
  Senhora da Anunciação, Jesus Sacerdote e Sagrada Família. Por fim, foi cri
 ada ainda a União dos Cooperadores e Cooperadoras Paulinos, que formam, tod
 as em conjunto, as 10 instituições da Família Paulina.\nA partir de 1931, a
  Família Paulista fixou-se, para além da Itália.\nCompreendendo muito cedo 
 a importância dos media na missão evangélica, Tiago Alberione deixou imenso
 s escritos publicados.\nFoi beatificado pelo Papa João Paulo II a 27 de Abr
 il de 2003.\n
DTSTAMP:20260422T051138Z
DTSTART;TZID=Europe/Lisbon;VALUE=DATE:20271126
DTEND;TZID=Europe/Lisbon;VALUE=DATE:20271127
SEQUENCE:0
TRANSP:OPAQUE
END:VEVENT
END:VCALENDAR