BEGIN:VCALENDAR
VERSION:2.0
PRODID:-//jEvents 2.0 for Joomla//EN
CALSCALE:GREGORIAN
METHOD:PUBLISH
BEGIN:VTIMEZONE
TZID:Europe/Lisbon
END:VTIMEZONE
BEGIN:VEVENT
UID:b4201cf0b3488d83db7893a699854e30
CATEGORIES:Santos
SUMMARY:São João Berchmans
DESCRIPTION;ENCODING=QUOTED-PRINTABLE:\n\n\nSão João Berchmans nasceu no dia 13 de Marco de 1599 em Diest, na Bél
 gica e faleceu a 13 de Agosto de 1621 em Roma. \nS. João Berchmans foi o pr
 imeiro dos cinco filhos de Carlos Berchmans, um modesto curtidor de peles e
  sapateiro, e de Isabel, uma das filhas do líder do povoado. Filho amoroso,
  irmão amável e companheiro caridoso, S. João Berchmans amava os estudos de
 monstrando muita sabedoria e inteligência desde a infância. Em 1609, quando
  S. João Berchmans tinha apenas 10 anos, sua mãe, Isabel ficou doente. Como
  a doença de sua mãe era lenta e incurável, Carlos Berchmans, enviou os seu
 s cinco filhos para o internato dos padres premonstratenses, onde a sua ime
 nsa capacidade de S. João Berchmans para aprender, principalmente idiomas, 
 aflorou. S. João Berchmans é devoto de Jesus e da Virgem Maria. No internat
 o S. João Berchmans decidiu que seria sacerdote e ali iniciou os seus estud
 os eclesiásticos.\nPor causa de sérios problemas financeiros do pai, S. Joã
 o Berchmans quase teve que abandonar os estudos em 1612, porém com a ajuda 
 de alguns familiares, ficou. Entretanto S. João Berchmans mobilizou-se para
  estudar na Escola Grande de Malines: conseguiu ingressar na casa do cónego
  superior-geral, onde trabalhava como seu camareiro e instrutor de alguns j
 ovens da nobreza, dos quais esse cónego era o orientador espiritual.\nAinda
  em Malines, foi estudar retórica no Colégio dos Jesuítas, em 1615. Na ocas
 ião, lendo a biografia de São Luiz Gonzaga, percebeu que Deus queria que el
 e abraçasse o carisma da Companhia de Jesus no seu sacerdócio. Dedicou-se a
 o extremo nos estudos, avançando cada vez mais na vida espiritual, pela car
 idade, oração e penitência, ingressando na Congregação Mariana. Os seus mes
 tres diziam-se impressionados, pois não havia melhor exemplo do que ele.\nC
 ompletados os estudos S. João Berchmans faz em 24 de Setembro de 1618 fez a
  primeira profissão religiosa, tornando- se noviço jesuíta. Em 1619 transfe
 riu-se para o Colégio Romano (atual Pontifícia Universidade Gregoriana) a f
 im de completar os estudos filosóficos.\nFoi canonizado pelo Papa Leão XIII
  em 15 de Janeiro de 1888.\n \nS. João Berchmans rogai por nós!\n
DTSTAMP:20260422T005953Z
DTSTART;TZID=Europe/Lisbon;VALUE=DATE:20271126
DTEND;TZID=Europe/Lisbon;VALUE=DATE:20271127
SEQUENCE:0
TRANSP:OPAQUE
END:VEVENT
END:VCALENDAR