BEGIN:VCALENDAR
VERSION:2.0
PRODID:-//jEvents 2.0 for Joomla//EN
CALSCALE:GREGORIAN
METHOD:PUBLISH
BEGIN:VTIMEZONE
TZID:Europe/Lisbon
END:VTIMEZONE
BEGIN:VEVENT
UID:20f5ac3deab7ba875e148a8dea3acb01
CATEGORIES:Santos
SUMMARY:Santo Amaro
DESCRIPTION;ENCODING=QUOTED-PRINTABLE:Santo Amaro, também conhecido como São Mauro foi um discípulo de São Bento 
 de Nórcia. A sua história está associada a seu primo São Plácido, também fe
 stejado neste dia.\nO pai de Santo Amaro foi um nobre romano que o entregou
  a São Bento para que educasse o filho com uma educação cristã.\nSanto Amar
 o foi um abade. \n\nMorte: ano 580 d.C.\nCuriosidade: Santo Amaro ou São Ma
 uro é representado como um jovem beneditino andando sobre as águas para sal
 var Plácido; também mostrado como um abade beneditino com um livro e um bác
 ulo pastoral.\nÉ invocado contra as constipações. \n\n
DTSTAMP:20260422T024148Z
DTSTART;TZID=Europe/Lisbon;VALUE=DATE:20300115
DTEND;TZID=Europe/Lisbon;VALUE=DATE:20300116
SEQUENCE:0
TRANSP:OPAQUE
END:VEVENT
END:VCALENDAR