BEGIN:VCALENDAR
VERSION:2.0
PRODID:-//jEvents 2.0 for Joomla//EN
CALSCALE:GREGORIAN
METHOD:PUBLISH
BEGIN:VTIMEZONE
TZID:Europe/Lisbon
END:VTIMEZONE
BEGIN:VEVENT
UID:10684898749e52102bd126871e272d42
CATEGORIES:Santos
SUMMARY:São André Dung-Lac, presbítero e Companheiros
DESCRIPTION;ENCODING=QUOTED-PRINTABLE:\n\n\n\n\n \nAndré Dung-Lạc nasceu no Vietname no ano de 1795 e faleceu a 2
 4 de Novembro de 1839 em Hanói, no Vietname.\nFilho de pais muito pobres, S
 ão André Dung-Lac foi confiado à guarda de um catequista desde pequeno.\nFo
 i ordenado sacerdote no dia 15 de Março de 1823. Durante o seu apostolado, 
 foi padre e missionário em diversas partes do país. Também foi salvo da pri
 são diversas vezes, graças a resgates pagos pelos fiéis, mas Santo André Du
 ng-Lac nunca concordou com isso. Dizia frequentemente: &ldquo;Aqueles que m
 orrem pela fé sobem ao céu. Ao contrário, nós que nos escondemos continuame
 nte gastamos dinheiro para fugir dos perseguidores. Seria melhor deixar-nos
  prender e morrer&rdquo;.\nPassada essa fase tenebrosa de perseguições, sur
 giu no Vietname um período de calma, que durou cerca de setenta anos. Os an
 os de paz permitiram à Igreja que se reorganizasse em numerosas dioceses qu
 e reuniam centenas de milhares de fiéis. Mas os martírios recomeçaram com a
  chegada do comunismo à região.\nA partir de 1955, os chineses e os russos 
 aniquilaram todas as instituições religiosas, dispersando os cristãos, pren
 dendo, condenando e matando bispos, padres e fiéis, de maneira arrasadora. 
 A única fuga possível era através de embarcações precárias, que sucumbiam n
 as águas que poderiam significar a liberdade, mas que levavam, invariavelme
 nte, à morte.\nEntretanto o evangelho de Cristo permaneceu no coração do po
 vo vietnamita, pois quanto mais perseguido maior se tornou seu fervor crist
 ão, sabendo que o resultado seria um elevadíssimo número de mártires.\nFoi 
 preso durante as perseguições do imperador vietnamita Minh Mang. Foi decapi
 tado no ano de 1839, é um dos chamados "Mártires do Vietname".\n\n\nFoi can
 onizado juntamente com 116 mártires pertencentes à Igreja do Vietname a 9 d
 e Junho de 1988 pelo Papa João Paulo II. Desses 116 mártires canonizados ne
 sse dia, 96 era de origem vietnamita e os demais missionários provenientes 
 da Espanha e da França.\n
DTSTAMP:20260424T035155Z
DTSTART;TZID=Europe/Lisbon;VALUE=DATE:20371124
DTEND;TZID=Europe/Lisbon;VALUE=DATE:20371125
SEQUENCE:0
TRANSP:OPAQUE
END:VEVENT
END:VCALENDAR