BEGIN:VCALENDAR
VERSION:2.0
PRODID:-//jEvents 2.0 for Joomla//EN
CALSCALE:GREGORIAN
METHOD:PUBLISH
BEGIN:VTIMEZONE
TZID:Europe/Lisbon
END:VTIMEZONE
BEGIN:VEVENT
UID:e91ec124d3545cbb99727dc8a863ffaf
CATEGORIES:Santos
SUMMARY:Santos Inácio Delgado; Vicente Liem; Domingos Na-Kham e Companheiros Mártires
DESCRIPTION;ENCODING=QUOTED-PRINTABLE:\n\n\nPor volta do século XVI, a Evangelização chegou ao Vietname e muitos 
 a acolheram com alegria, mas rapidamente também teve início a perseguição a
 os cristãos.\nFoi assim que durante séculos milhares de vietnamitas foram m
 artirizados, entre eles Bispos, Sacerdotes, religiosos e leigos.\nMuitos de
 les foram enterrados de forma anónima, mas sua lembrança permanece viva no 
 espírito da comunidade católica.\nDeste grupo de valentes cristãos, 117 cat
 ólicos, cujos nomes foram identificados, foram canonizados pelo Papa João P
 aulo II em 1988 e sua festa é celebrada neste dia 24 de novembro.\nDestes, 
 75 foram decapitados, 22 estrangulados, 6 queimados vivos, 5 condenados a e
 squartejamento e 9 foram condenados a morrer no cárcere com torturas.\nOs 1
 17 mártires do Vietname, entre os quais também havia missionários espanhóis
  e franceses, são:\n1. André DUNG-LAC, Sacerdote 21-12-1839\n2. Domingos HE
 NARES, Bispo O.P. 25-06-1838\n3. Clemente Inácio DELGADO CEBRIAN, Bispo O.P
 . 12-07-1838\n4. Pedro Rosa Úrsula BORIE, Bispo M.E.P. 24-11-1838\n5. José 
 Maria DIAZ SANJURJO, Bispo O.P. 20-07-1857\n6. Melchior GARCIA SAMPEDRO SUA
 REZ, Bispo O.P. 28-07-1858\n7. Jerônimo HERMOSILLA, Bispo O.P. O1-11-1861\n
 8. Valentim BERRIO OCHOA, Bispo O.P. 01-11-1861\n9. Estevão Teodoro CUENOT,
  Bispo M.E.P. 14-11-1861\n10. Francisco GIL DE FEDERICH, Sacerdote O.P. 22-
 O1-1745\n11. Mateus ALONSO LECINIANA, Sacerdote O.P. 22-O1-1745\n12. Jacint
 o CASTANEDA, Sacerdote O.P. 07-11-1773\n13. Vicente LE OUANG LIEM, Sacerdot
 e O.P. 07-11-1773\n14. Emanuel NGUYEN VAN TRIEU, Sacerdote 17-09-1798\n15. 
 João DAT, Sacerdote 28-10-1798\n16. Pedro LE TuY, Sacerdote 11-10-1833\n17.
  Francisco Isidoro GAGELIN, Sacerdote M.E.P. 17-10-1833\n18. José MARCHAND,
  Sacerdote M.E.P. 30-11-1835\n19. João Carlos CORNAY, Sacerdote M.E.P. 20-0
 9-1837\n20. Vicente DO YEN, Sacerdote O.P. 30-06-1838\n21. Pedro NGUYEN BA 
 TUAN, Sacerdote 15-07-1838\n22. José FERNANDEZ, Sacerdote O.P. 24-07-1838\n
 23. Bernardo VU VAN DUE, Sacerdote 01-08-1838\n24. Domingos NGUYEN VAN HANH
  (DIEU), Sacerdote O.P. 01-08-1838\n25. Santiago Do MAI NAM, Sacerdote 12-0
 8-1838\n26. José DANG DINH (NIEN) VIEN, Sacerdote 21-08-1838\n27. Pedro NGU
 YEN VAN TU, Sacerdote O.P. 05-09-1838\n28. Francisco JACCARD, Sacerdote M.E
 .P. 21-09-1838\n29. Vicente NGUYEN THE DIEM, Sacerdote 24-11-1838\n30. Pedr
 o VO BANG KHOA, Sacerdote 24-11-1838\n31. Domingos TUOC, Sacerdote O.P. 02-
 04-1839\n32. Tomás DINH VIET Du, Sacerdote O.P. 26-11-1839\n33. Domingos NG
 UYEN VAN (DOAN) XUYEN, Sacerdote O.P. 26-11-1839\n34. Pedro PHAM VAN TIZI, 
 Sacerdote 21-12-1839\n35. Paulo PHAN KHAc KHOAN, Sacerdote 28-04-1840\n36. 
 José DO QUANG HIEN, Sacerdote O.P. 09-05-1840\n37. Lucas Vu BA LOAN, Sacerd
 ote 05-06-1840\n38. Domingos TRACH (DOAI), Sacerdote O.P. 18-09-1840\n39. P
 aulo NGUYEN NGAN, Sacerdote 08-11-1840\n40. José NGUYEN DINH NGHI, Sacerdot
 e 08-11-1840\n41. Martinho TA Duc THINH, Sacerdote 08-11-1840\n42. Pedro KH
 ANH, Sacerdote 12-07-1842\n43. Agostinho SCHOEFFLER, Sacerdote M.E.P. 01-05
 -1851\n44. João Luís BONNARD, Sacerdote M.E.P. 01-05-1852\n45. Felipe PHAN 
 VAN MINH, Sacerdote 03-07-1853\n46. Lourenço NGUYEN VAN HUONG, Sacerdote 27
 -04-1856\n47. Paulo LE BAo TINH, Sacerdote 06-04-1857\n48. Domingos MAU, Sa
 cerdote O.P. 05-11-1858\n49. Paulo LE VAN Loc, Sacerdote 13-02-1859\n50. Do
 mingos CAM, Sacerdote T.O.P. 11-03-1859\n51. Pedro DOAN LONG QUY, Sacerdote
  31-07-1859\n52. Pedro Francisco NERON, Sacerdote M.E.P. 03-11-1860\n53. To
 más KHUONG, Sacerdote T.O.P. 30-01-1861\n54. João Teofano VENARD, Sacerdote
  M.E.P. 02-02-1861\n55. Pedro NGUYEN VAN Luu, Sacerdote 07-04-1861\n56. Jos
 é TUAN, Sacerdote O.P. 30-04-1861\n57. João DOAN TRINH HOAN, Sacerdote 26-0
 5-1861\n58. Pedro ALMATO RIBERA, Sacerdote O.P. 01-11-1861\n59. Paulo TONG 
 VIET BUONG, Leigo 23-10-1833\n60. André TRAN VAN THONG, Leigo 28-11-1835\n6
 1. Francisco Javier CAN, Catequista 20-11-1837\n62. Francisco DO VAN (HIEN)
  CHIEU, Catequista 25-06-1838\n63. José NGUYEN DINH UPEN, Catequista T.O.P.
  03-07-1838\n64. Pedro NGUYEN DicH, Leigo 12-08-1838\n65. Miguel NGUYEN HUY
  MY, Leigo 12-08-1838\n66. José HOANG LUONG CANH, Leigo T.O.P. 05-09-1838\n
 67. Tomás TRAN VAN THIEN, Seminarista 21-09-1838\n68. Pedro TRUONG VAN DUON
 G, Catequista 18-12-1838\n69. Paulo NGUYEN VAN MY, Catequista 18-12-1838\n7
 0. Pedro VU VAN TRUAT, Catequista 18-12-1838\n71. Agostinho PHAN VIET Huy, 
 Leigo 13-06-1839\n72. Nicolau BUI DUC THE, Leigo 13-06-1839\n73. Domingos (
 Nicolau) DINH DAT, Leigo 18-07-1839\n74. Tomás NGUYEN VAN DE, Leigo T.O.P. 
 19-12-1839\n75. Francisco Javier HA THONG MAU, Catequista T.O.P. 19-12-1839
 \n76. Agostinho NGUYEN VAN MOI, Leigo T.O.P. 19-12-1839\n77. Domingos Bui V
 AN UY, Catequista T.O.P. 19-12-1839\n78. Estevão NGUYEN VAN VINTI, Leigo T.
 O.P. 19-12-1839\n79. Pedro NGUYEN VAN HIEU, Catequista 28-04-1840\n80. João
  Batista DINH VAN THANH, Catequista 28-04-1840\n81. Antônio NGUYEN HUU (NAM
 ) QUYNH, Leigo 10-07-1840\n82. Pedro NGUYEN KHAC Tu, Catequista 10-07-1840\
 n83. Tomás TOAN, Catequista T.O.P. 21-07-1840\n84. João Batista CON, Leigo 
 08-11-1840\n85. Martinho THO, Leigo 08-11-1840\n86. Simão PHAN DAc HOA, Lei
 go 12-12-1840\n87. Inês LE THi THANH (DE), Leiga 12-07-1841\n88. Mateus LE 
 VAN GAM, Leigo 11-05-1847\n89. José NGUYEN VAN Luu, Catequista 02-05-1854\n
 90. André NGUYEN Kim THONG (NAM THUONG), Catequista 15-07-1855\n91. Miguel 
 Ho DINH HY, Leigo 22-05-1857\n92. Pedro DOAN VAN VAN, Catequista 25-05-1857
 \n93. Francisco PHAN VAN TRUNG, Leigo 06-10-1858\n94. Domingos PHAM THONG (
 AN) KHAM, Leigo T.O.P. 13-01-1859\n95. Lucas PHAM THONG (CAI) THIN, Leigo 1
 3-01-1859\n96. José PHAM THONG (CAI) TA, Leigo 13-01-1859\n97. Paulo HANH, 
 Leigo 28-05-1859\n98. Emanuel LE VAN PHUNG, Leigo 31-07-1859\n99. José LE D
 ANG THI, Leigo 24-10-1860\n100. Mateus NGUYEN VAN (NGUYEN) PHUONG, Leigo 26
 -05-1861\n101. José NGUYEN DUY KHANG, Catequista T.O.P. 06-11-1861\n102. Jo
 sé TUAN, Leigo 07-01-1862\n103. José TUC, Leigo 01-06-1862\n104. Domingos N
 INH, Leigo 02-06-1862\n105. Domingos TORI, Leigo 05-06-1862\n106. Lourenço 
 NGON, Leigo 22-05-1862\n107; Paulo (DONG) DUONG, Leigo 03-06-1862\n108. Dom
 ingos HUYEN, Leigo 05-06-1862\n109. Pedro DUNG, Leigo 06-06-1862\n110. Vice
 nte DUONG, Leigo 06-06-1862\n111. Pedro THUAN, Leigo 06-06-1862\n112. Domin
 gos MAO, Leigo 16-06-1862\n113. Domingos NGUYEN, Leigo 16-06-1862\n114. Dom
 ingos NHI, Leigo 16-06-1862\n115. André TUONG, Leigo 16-06-1862\n116. Vicen
 te TUONG, Leigo 16-06-1862\n117. Pedro DA, Leigo 17-06-1862\n
DTSTAMP:20260422T051210Z
DTSTART;TZID=Europe/Lisbon;VALUE=DATE:20251124
DTEND;TZID=Europe/Lisbon;VALUE=DATE:20251125
SEQUENCE:0
TRANSP:OPAQUE
END:VEVENT
END:VCALENDAR