BEGIN:VCALENDAR
VERSION:2.0
PRODID:-//jEvents 2.0 for Joomla//EN
CALSCALE:GREGORIAN
METHOD:PUBLISH
BEGIN:VTIMEZONE
TZID:Europe/Lisbon
END:VTIMEZONE
BEGIN:VEVENT
UID:0cc0a80fee19676ecbddb91ae5fdb5df
CATEGORIES:Santos
SUMMARY:Alexander Nevsky
DESCRIPTION;ENCODING=QUOTED-PRINTABLE:\n\n\n\n\n \nAlexander Nevsky, supõe-se que tenha nascido em 30 de Maio de 
 1220 e faleceu a 14 de Novembro de 1263. Foi baptizado com o nome Pereslavl
 -Zalessky. Alexandre foi o vigésimo quarto filho do príncipe Yaroslav Vsevo
 lodovich, e aparentemente tinha pouca chance de reclamar o trono dourado do
  pai. Em 1236, contudo, Alexander Nevsky foi chamado pelos novgorodianos pa
 ra se tornar o kniaz' (ou príncipe) de Novgorod (Rússia) e, como líder mili
 tar da cidade, defender as terras a noroeste dos invasores suecos e alemães
 . Após o desembarque do exército sueco na confluência dos rios Izhora e Nev
 a, Alexander e seu pequeno exército atacaram repentinamente, em 15 de julho
  de 1240, destruindo completamente o exército sueco. A Batalha do Neva de 1
 240 salvou a Rússia de uma invasão inimiga em larga escala pelo norte. Como
  resultado, Alexander, com 19 anos, recebeu o nome de "Nevsky" (em russo, "
 do Neva"). A vitória fortaleceu a influência política de Nevsky, mas ao mes
 mo tempo deteriorou sua relação com os boiares. Logo, Alexandre precisou ab
 andonar Novgorod por causa deste conflito.\nApós a invasão da Rússia pelos 
 Cavaleiros Teutónicos, as autoridades de Novgorod convocaram Alexander Nevs
 ky. Na primavera de 1241 Nevsky retornou do "exílio", reuniu rapidamente um
  exército e expulsou os invasores das cidades russas. \nA vitória de Alexan
 der foi um evento significativo na história da Idade Média. A infantaria ru
 ssa havia cercado e derrotado um exército de cavaleiros montados, protegido
 s por armaduras pesadas, muito antes que os infantes do oeste europeu apren
 dessem a derrotar cavaleiros montados. \nApós a invasão teutónica, Nevsky c
 ontinuou a fortalecer o noroeste russo. Despachou enviados para a Noruega e
 , como resultado, assinou um acordo de paz entre Novgorod e a Noruega, em 1
 251. Alexander liderou seu exército até à Finlândia e derrotou os suecos, q
 ue tentavam novamente bloquear o mar Báltico russo em 1256.\nMorreu na cida
 de de Gorodets-sobre-o-Volga, enquanto regressava de Sarai, a capital da Ho
 rda Dourada. \n
DTSTAMP:20260423T211251Z
DTSTART;TZID=Europe/Lisbon;VALUE=DATE:20351123
DTEND;TZID=Europe/Lisbon;VALUE=DATE:20351124
SEQUENCE:0
TRANSP:OPAQUE
END:VEVENT
END:VCALENDAR