BEGIN:VCALENDAR
VERSION:2.0
PRODID:-//jEvents 2.0 for Joomla//EN
CALSCALE:GREGORIAN
METHOD:PUBLISH
BEGIN:VTIMEZONE
TZID:Europe/Lisbon
END:VTIMEZONE
BEGIN:VEVENT
UID:b6d2fefeac4ced09dd518a13140ffadd
CATEGORIES:Santos
SUMMARY:Santa Cecília
DESCRIPTION;ENCODING=QUOTED-PRINTABLE:\nNão existem muitas informações sobre a vida de Santa Cecília. Santa Cecíl
 ia seria da nobre família romana dos Metelos, filha de senador romano e cri
 stã desde a infância". Santa Cecília foi dada em casamento, contra a sua vo
 ntade, a um jovem chamado Valeriano. Se bem que Santa Cecília tivesse alega
 do os motivos que a levavam a não aceitar este contrato, a vontade dos pais
  impôs-se e a data do casamento foi marcada. No dia do casamento a alegria 
 encontrava-se estampada no rosto de todos menos no de Santa Cecília. \nEsta
 ndo só com o noivo, Santa Cecília disse-lhe com toda a amabilidade e firmez
 a: &ldquo;Valeriano, acho-me sob a proteção direta de um Anjo que me defend
 e e guarda minha virgindade. Não queiras, portanto, fazer alguma coisa cont
 ra mim, o que provocaria a ira de Deus contra ti&rdquo;. A estas palavras, 
 incompreensíveis para um pagão, Cecília fez seguir a declaração de ser cris
 tã e obrigada por um voto que tinha feito a Deus de guardar a pureza virgin
 al.\nSanta Cecília disse-lhe ainda: a fidelidade ao voto traz a bênção; a v
 iolação, porém, o castigo de Deus. Valeriano, ficou "vivamente impressionad
 o" com as declarações da noiva, respeitou-lhe a virgindade, converteu-se e 
 recebeu o batismo naquela mesma noite. Valeriano relatou ao irmão Tibúrcio 
 o que tinha se passado e conseguiu que também ele se tornasse cristão.\nTur
 cius Almachius, prefeito de Roma, "teve conhecimento da conversão do dois i
 rmãos. Chamou-os perante o tribunal e exigiu peremptoriamente que abandonas
 sem o cristianismo, sob pena de morte. Diante da recusa formal, Valeriano e
  Tibúrcio foram condenados à morte e decapitados". Também Santa Cecília, "t
 eve de comparecer na presença do juiz. Antes de mais nada, foi intimada a r
 evelar onde se achavam escondidos os tesouros dos dois sentenciados. Cecíli
 a respondeu-lhe que os tinha bem guardados, sem deixar perceber ao tirano q
 ue já os tinha dado aos dos pobres. Almachius, soube mais tarde, deste fato
 , e enfurecido ordenou que Cecília fosse levada ao templo e obrigada a rend
 er homenagens aos deuses. Ao ser conduzida ao templo, Santa Cecília falou a
 os soldados da beleza da religião de Cristo, com tanta convicção, que estes
  se declararam a seu favor, e prometeram abandonar o culto dos deuses."\nAl
 machius, "vendo novamente frustrado seu estratagema, deu ordem para que Cec
 ília fosse trancada na instalação balneária do seu próprio palacete e asfix
 iada pelos vapores d&rsquo;água. Cecília teria sido então protegida milagro
 samente, e embora a temperatura tivesse sido elevada a ponto de tornar-se i
 ntolerável, ela nada sofreu". Segundo outros mitos, a Santa "foi metida em 
 um banho de água fervente do qual teria saído ilesa".\nAlmachius recorreu e
 ntão à pena de morte por decapitação.\nSanta Cecília é a padroeira dos músi
 cos e da música sacra.\n \nSanta Cecília rogai por nós!\n
DTSTAMP:20260423T035231Z
DTSTART;TZID=Europe/Lisbon;VALUE=DATE:20311122
DTEND;TZID=Europe/Lisbon;VALUE=DATE:20311123
SEQUENCE:0
TRANSP:OPAQUE
END:VEVENT
END:VCALENDAR