BEGIN:VCALENDAR
VERSION:2.0
PRODID:-//jEvents 2.0 for Joomla//EN
CALSCALE:GREGORIAN
METHOD:PUBLISH
BEGIN:VTIMEZONE
TZID:Europe/Lisbon
END:VTIMEZONE
BEGIN:VEVENT
UID:26eb6069fa05a07b2e7eb56dcfd6b12f
CATEGORIES:Santos
SUMMARY:Edmundo, o mártir
DESCRIPTION;ENCODING=QUOTED-PRINTABLE:\n \nSanto Edmundo, o Mártir foi proclamado rei, no dia de Natal do ano 855
 , quando tinha 14 anos. Segundo consta, Santo Edmundo era talentoso e foi b
 em-sucedido como governante. Santo Edmundo aprendeu de cor todo o saltério,
  a fim de poder acompanhar o culto na igreja e imitar as boas ações do Rei 
 David.\nNo ano de 866 houve a maior invasão dinamarquesa. Os dinamarqueses 
 invadiram a Inglaterra. Quatro anos depois, em 870 Edmundo lutou com os din
 amarqueses e perdeu. Os dinamarqueses assassinaram o Rei Edmundo e subjugar
 am todo o país destruindo todos os mosteiros que encontravam à sua frente. 
 Santo Edmundo foi preso a uma árvore e cravejado de flechas. Depois de deca
 pitado foi atirado para uma floresta. Conta-se que enquanto procuravam a ca
 beça do rei, os cristãos, para não se dispersarem, gritavam uns para os out
 ros; &ldquo;Onde estás? Onde estás?&rdquo;; no meio da busca, o rei teria r
 espondido: &ldquo;Aqui, aqui, aqui.&rdquo; Correndo para o lugar donde ouvi
 am a voz, encontraram a cabeça do rei guardada por um lobo que a defendia d
 os outros animais.\n \nSanto Edmundo, rogai por nós!\n
DTSTAMP:20260421T111656Z
DTSTART;TZID=Europe/Lisbon;VALUE=DATE:20231120
DTEND;TZID=Europe/Lisbon;VALUE=DATE:20231121
SEQUENCE:0
TRANSP:OPAQUE
END:VEVENT
END:VCALENDAR