BEGIN:VCALENDAR
VERSION:2.0
PRODID:-//jEvents 2.0 for Joomla//EN
CALSCALE:GREGORIAN
METHOD:PUBLISH
BEGIN:VTIMEZONE
TZID:Europe/Lisbon
END:VTIMEZONE
BEGIN:VEVENT
UID:b2de029040d392f56b5885fb3dc01dea
CATEGORIES:Santos
SUMMARY:São Félix de Valóis
DESCRIPTION;ENCODING=QUOTED-PRINTABLE:\n\n\nSão Félix de Valóis nasceu a 19 de Abril de 1127 na cidade de Amiens,
  distrito de Valóis (França) e faleceu a 20 de Novembro de 1212 em Cefroid,
  França. Era filho do Conde Raul de Vermandois e de Valois, príncipe da Cas
 a dos Capet  e Carlosmagno e de Alienor de Champagne, também pertencente à 
 casa de Carlosmagno. São Félix de Valóis foi baptizado com o nome de Hugo, 
 em homenagem ao seu avô, o filho de Henry I, Rei da França.\nO jovem Hugo f
 oi enviado para a Abadia de Clairvaux para ser educado. Com 20 anos saiu nu
 ma cruzada mas foi como incógnito para não ser tratado de maneira diferente
 . Três anos mais tarde retornou, viajou pela Itália e foi ser um eremita no
  norte da Itália ou perto de Clermont d&rsquo;Oise. Para evitar ser reconhe
 cido, Hugo mudou o nome para Félix e tornou-se sacerdote.\nEm 1193 ele esta
 va vivendo em extrema solidão perto de Montigny quando recebeu a visita de 
 São João de Matha (http://www.paroquia-almancil.pt/utilidades/vida-dos-sant
 os/icalrepeat.detail/2017/12/17/45785/-/joão-da-mata.html) que, tendo-se di
 plomado na Universidade de Paris, tornou-se sacerdote, celebrando sua prime
 ira missa em 28 de janeiro de 1193. Eles se tornaram amigos, formando uma p
 equena comunidade junto com outros discípulos.\nUm dia em 1197, uma corça b
 ranca, que vinha com frequência beber água numa fonte onde os eremitas tira
 vam água, apareceu com uma cruz vermelha e azul entre os chifres. João lemb
 rou-se da visão que tinha tido durante a sua primeira missa, quando viu um 
 anjo vestido de branco com uma cruz vermelha e azul em seu peito. Ele e Fél
 ix sabiam que a corça era um sinal de Deus e que eles deveriam seguir em fr
 ente com o plano de fundar uma Ordem Religiosa dedicada a resgatar os cativ
 os cristãos que eram capturados pelos Mouros durante as cruzadas.\nSão Féli
 x de Valóis e São João da Matha, viajam então até Roma onde apresentaram o 
 seu plano, ao Papa Inocêncio III. O Papa deu a sua aprovação para a criação
  da Ordem, e deu aos fundadores o hábito da mesma (ordem): branco com uma c
 ruz vermelha e azul. João e Félix retornaram a França e a sua comunidade fo
 i renomeada de Cerfroid em homenagem à corça. Em 17 de dezembro de 1198, o 
 Papa aprova a Regra Própria da nova Ordem.\nJoão deixou Cerfroid para começ
 ar o trabalho de resgatar os cativos; Félix ficou como Supervisor Geral em 
 Cerfroid, mas mais tarde foi a Paris para estabelecer o hospital da Ordem e
 m Saint Mathurin o qual lhes havia sido doado. Como resultado, membros da O
 rdem eram popularmente chamados de Mathurinos; os frades trinitários eram t
 ambém conhecidos como &ldquo;frades dos asnos&rdquo; sendo que sempre usava
 m esse meio de transporte (o asno) como testemunho de pobreza.\nNa noite de
  8 de setembro de 1212, embora o frade sacristão de Cerfroid se tenha esque
 cido de bater o sino da manhã (geralmente às 3 da madrugada), Félix desceu 
 à Igreja para cantar o matutino com a comunidade, como de costume, e encont
 rou a Virgem Maria e anjos, todos eles usando o hábito da Ordem. \nAlguns d
 ias mais tarde João de Matha retornou a Cerfroid para ver seu velho amigo, 
 mas ficou apenas alguns dias. Em 4 de Novembro de 1212 Félix morreu com a i
 dade de 85 anos.\nEle teria sido enterrado em Cerfroid. A grande reputação 
 de sua santidade e de milagres reportados em sua tumba fez com que o Papa U
 rbano IV o canonizasse em 1 de maio de 1262.\nEm 1631 os trinitários tentar
 am receber a permissão para celebrar as festas dos santos Félix e João litu
 rgicamente na França e na Espanha, como seus confrades na Inglaterra haviam
  conseguido desde 1308; mas como o Concílio de Trento havia estabelecido co
 ntroles restritivos dessas celebrações, eles não receberam permissão. A Bul
 a papal de canonização de Félix do Papa Urbano IV também se havia perdido, 
 assim os trinitários começaram a colher novos dados.\nEles encontraram os &
 ldquo;canons&rdquo; de Meaux invocando São Félix desde 1219; em 1291 o Capí
 tulo Geral fixou o dia de sua festa e em 1308 o provincial da Inglaterra re
 cebeu os ofícios da missa do Papa João XXII. Havia documentos para convence
 r o Papa Alexandre VII a confirmar o culto em 21 de outubro de 1666. Mas 5 
 anos mais tarde o Sagrado Colégio dos Ritos ainda não havia adicionado Féli
 x e João no Martirológio Romano, e apenas com a intercessão do Rei Luís XIV
  de França e Filipe V da Espanha a favor de Félix de Valóis, fez com que o 
 Papa Inocêncio XII estendesse as festas de São Félix e São João de Matha a 
 toda Igreja católica em 1694.\n
DTSTAMP:20260423T124536Z
DTSTART;TZID=Europe/Lisbon;VALUE=DATE:20321120
DTEND;TZID=Europe/Lisbon;VALUE=DATE:20321121
SEQUENCE:0
TRANSP:OPAQUE
END:VEVENT
END:VCALENDAR