BEGIN:VCALENDAR
VERSION:2.0
PRODID:-//jEvents 2.0 for Joomla//EN
CALSCALE:GREGORIAN
METHOD:PUBLISH
BEGIN:VTIMEZONE
TZID:Europe/Lisbon
END:VTIMEZONE
BEGIN:VEVENT
UID:0f13c5bc721b11e41c02a768446e0690
CATEGORIES:Santos
SUMMARY:Santa Matilde
DESCRIPTION;ENCODING=QUOTED-PRINTABLE:\n\n\nSanta Matilde de Hackeborn nasceu no ano de 1240 ou 1241 em Helfta (A
 lemanha) e faleceu a 19 de Novembro de 1298 em Helfta. Santa Matilde nasceu
  tão frágil que chegaram a pensar que estava morta, mas quando o padre foi 
 baptizá-la profetizou que Matilde chegaria a ser santa e que Deus realizari
 a grandes coisas através dela.\nNo ano de 1248, com sete anos de idade, vis
 itou com sua mãe a sua irmã Gertrudes de Hackeborn, monja no mosteiro de Ro
 dardsdorf (Alemanha). Atraída pelo ambiente monástico, permaneceu no mostei
 ro, ingressando como educanda. Três anos depois, em 1251, a sua irmã Gertru
 des torna-se abadessa do mosteiro quando contava dezanove anos de idade reg
 endo a comunidade até 1291. Em 1258, devido a escassez de água, as monjas m
 udaram-se para Helfta. Este novo monastério chegaria a prosperar tanto econ
 omicamente como culturalmente e espiritualmente.\nGertrudes formou a sua ir
 mã (Santa Matilde) com vistas ao cargo que lhe ia confiar: maestra da escol
 a para meninas, e formadora das noviças e das jovens professoras. Em 1261, 
 exercendo o cargo de maestra, Santa Matilde recebe a seus cuidados a uma me
 nina chamada Gertrudes, de então cinco anos de idade, que viria a ser conhe
 cida mais tarde como Santa Gertrudes, a Grande, celebrada a 16 de Novembro 
 (http://www.paroquia-almancil.pt/utilidades/vida-dos-santos/icalrepeat.deta
 il/2017/11/16/34954/-/s-gertrudes-magna.html). Por seus dotes naturais para
  o canto, Santa Matilde seria também chamada maestra de coral. Ficou conhec
 ida como &ldquo;O Rouxinol de Deus&rdquo;.\nSanta Matilde desempenhou o seu
  trabalho silenciosamente até os cinquenta anos. Desde jovem tinha experiên
 cias místicas, porém nunca escreveu nada. Em 1291 morre a sua irmã Gertrude
 s de Hackeborn. Por este acontecimento, Santa Matilde começou a adoecer con
 stantemente e a passar períodos de cama. A nova abadessa, Sofía de Querfurt
 , vendo a progressiva decadência física de Matilde, mandou que as monjas re
 colhessem todos os dados e notas que ela tinha tomado durante o seu magisté
 rio. A encarregada especial para este trabalho foi Gertrudes de Helfta. Iss
 o foi feito às escondidas da doente, mas depois, quando informada, confirmo
 u o conteúdo do livro. O resultado foi O Livro de graça especial (El Libro 
 de la Gracia Especial). O livro é constituido por sete partes. As primeiras
  se recolhe as experiências místicas de Matilde em torno das festas litúrgi
 cas. A terceira e quarta reúnem os ensinamentos referentes a salvação do ho
 mem e as suas virtudes. A quinta parte está dedicada às almas dos defuntos.
  A sexta é uma breve biografia de Gertrudes de Hackeborn, irmã de Matilde. 
 A sétima parte descreve os últimos dias de Matilde e sua morte.\n\n\n \n\n\
 nSanta Matilde de Hackeborn\n
DTSTAMP:20260422T110857Z
DTSTART;TZID=Europe/Lisbon;VALUE=DATE:20261119
DTEND;TZID=Europe/Lisbon;VALUE=DATE:20261120
SEQUENCE:0
TRANSP:OPAQUE
END:VEVENT
END:VCALENDAR