BEGIN:VCALENDAR
VERSION:2.0
PRODID:-//jEvents 2.0 for Joomla//EN
CALSCALE:GREGORIAN
METHOD:PUBLISH
BEGIN:VTIMEZONE
TZID:Europe/Lisbon
END:VTIMEZONE
BEGIN:VEVENT
UID:9961ae06875a3d387abf6c7975c1d824
CATEGORIES:Santos
SUMMARY:Beato Pedro Donders
DESCRIPTION;ENCODING=QUOTED-PRINTABLE:\n\nO Beato Pedro Donders nasceu em Tilburg, no ano de 1809.\n\n\nPedro Don
 ders começou os seus estudos no seminário menor com 20 anos e foi ordenado 
 sacerdote em 5 de junho de 1841 foi ordenado sacerdote. Ainda estudava, qua
 ndo o Beato Pedro Donders foi encaminhado pelos seus superiores do seminári
 o para as missões da colónia holandesa do Suriname. Chegou a Paramaribo, ca
 pital da colónia, em 16 de setembro de 1842 e de imediato se dedicou aos tr
 abalhos pastorais.\n\n\nNo ano de 1856, Pedro Donders foi enviado à colónia
  dos leprosos de Batávia; e foi nesta colónia que o Beato Pedro Donders tra
 balhou até á sua morte. Quando no ano de 1866, os Redentoristas chegaram pa
 ra assumir a missão do Suriname, Pedro Donders e um putro sacerdote, pedira
 m para ser admitidos na Congreção. Assim no dia 24 de junho de 1867, Pedro 
 Donders, realizou a sua profissão religiosa na congregação.\n\n\n\n\n\nNasc
 imento: 27 de outubro de 1809 d.C., em Tilburg, Holanda\n\n\nMorte: 14 de j
 aneiro de 1887 d.C., Suriname\n\n\n\nCuriosidade: Foi beatificado por João 
 Paulo II em 23 de Maio de 1982. \n
DTSTAMP:20260420T164941Z
DTSTART;TZID=Europe/Lisbon;VALUE=DATE:20230114
DTEND;TZID=Europe/Lisbon;VALUE=DATE:20230115
SEQUENCE:0
TRANSP:OPAQUE
END:VEVENT
END:VCALENDAR