BEGIN:VCALENDAR
VERSION:2.0
PRODID:-//jEvents 2.0 for Joomla//EN
CALSCALE:GREGORIAN
METHOD:PUBLISH
BEGIN:VTIMEZONE
TZID:Europe/Lisbon
END:VTIMEZONE
BEGIN:VEVENT
UID:41c75224de3ed0f70be7ddebf6200cf2
CATEGORIES:Santos
SUMMARY:Santo Orestes
DESCRIPTION;ENCODING=QUOTED-PRINTABLE:\n\nSanto Orestes é celebrado pela Igreja Católica Romana no dia 9 de Novem
 bro. \nÉ natural de Tiana, na Capadócia. Foi um médico cristão e foi martir
 izado durante a perseguição de Diocleciano. Orestes, ao contrário dos médic
 os pagãos, não aceitava a magia feita por seus colegas como tratamento. Ore
 stes cuidava de todos os seus pacientes sem distinção de raça, credo ou riq
 ueza, aceitando, como pagamento por seus serviços profissionais, o que eles
  fossem capazes de dar, muitas vezes trabalhando de graça e doando roupas, 
 alimentos e remédios para os pobres.\nSanto Orestes agiu como Madre Teresa 
 de Calcutá, que reconheceu Jesus em cada pessoa que necessita de cuidados, 
 cada ser humano, criado à imagem e semelhança de Deus. Por esta razão, as p
 essoas recorreram a inúmeros tratamentos de Orestes. E, uma vez que muitos 
 de seus pacientes, fascinados por sua fé e sua caridade, converteram-se ao 
 cristianismo, tendo entre eles até mesmo as autoridades políticas e religio
 sas, Santo Orestes foi acusado de não reconhecer a divindade do imperador, 
 não dar a devida consideração à reputação das autoridades imperiais (políti
 cos e religiosos) e de desviar o povo da adoração dos deuses pagãos ao Deus
  que se fez homem. Assim, foi denunciado como cristão e promotor da nova fé
 .\nDurante o julgamento público, ele clamou que o céu lhe concedesse um pro
 dígio capaz de cair sobre o povo, que queria trair a verdade do cristianism
 o. Imediatamente, foi atendido. Santo Orestes, apenas com um sopro, fez as 
 estátuas dos ídolos voarem como folhas mortas e as colunas do templo caírem
 , como se fossem de fios de palha. Foi condenado à morte.\nMas antes Oreste
 s foi torturado com pregos e arrastado por um cavalo. No final, com o cadáv
 er desfigurado, foi atirado num rio, que devolveu seu corpo refeito e cober
 to com uma magnífica túnica.\nFoi assim que as relíquias do mártir chegaram
  naquele antigo local, onde existiu o famoso mosteiro de santo Orestes, na 
 Capadócia, atual Turquia.\n \n
DTSTAMP:20260423T014922Z
DTSTART;TZID=Europe/Lisbon;VALUE=DATE:20301109
DTEND;TZID=Europe/Lisbon;VALUE=DATE:20301110
SEQUENCE:0
TRANSP:OPAQUE
END:VEVENT
END:VCALENDAR