BEGIN:VCALENDAR
VERSION:2.0
PRODID:-//jEvents 2.0 for Joomla//EN
CALSCALE:GREGORIAN
METHOD:PUBLISH
BEGIN:VTIMEZONE
TZID:Europe/Lisbon
END:VTIMEZONE
BEGIN:VEVENT
UID:b25a3a7de54a8dc16b1771f645767ee2
CATEGORIES:Santos
SUMMARY:São Nuno de Santa Maria
DESCRIPTION;ENCODING=QUOTED-PRINTABLE:\n\n São Nuno de Santa Maria, Nuno Álvares Pereira, também conhecido como o
  Santo Condestável ou simplesmente Nun' Álvares nasceu a 24 de junho de 136
 0 e faleceu em Lisboa a 1 de novembro de 1431. É filho de D. Álvaro Gonçalv
 es Pereira e de Iria Gonçalves do Carvalhal. São Nuno de Santa Maria cresce
 u na casa do pai até aos 13 anos, donde saiu para ingressar na corte de D. 
 Fernando de Portugal. Após uma missão de reconhecimento ao exército de Cast
 ela, que passava por Santarém a caminho de Lisboa, ele e o seu irmão Diogo 
 foram armados cavaleiros. Nessa missão, o jovem, Nuno de Santa Maria fez um
  relatório indicando que o exército de Castela, apesar de grande, era mal c
 omandado, e que poderia ser vencido por uma pequena força bem comandada.\nD
 ecidido a manter-se casto, viu tais aspirações serem contrariadas pelo seu 
 pai, que aos 16 anos, em 1376, o casou com Leonor de Alvim, quatro anos mai
 s velha, viúva de um primeiro casamento sem filhos, rica, em cerimónia real
 izada em Vila Nova da Rainha, freguesia do concelho de Azambuja. O nobre ca
 sal estabeleceu-se no Minho numa propriedade de D. Leonor de Alvim. O pai, 
 com este casamento, garantia o futuro do filho, já que Nuno não podia suced
 er-lhe no cargo de prior. Este cargo passou para o seu irmão Pedro, que aca
 baria por tomar o partido de Castela.\nQuando o Rei D. Fernando de Portugal
  morreu em 1383, sem herdeiros a não ser a princesa D. Beatriz, casada com 
 o Rei João I de Castela, D. Nuno de Santa Maria foi um dos primeiros nobres
  a apoiar as pretensões de João, o Mestre de Avis à coroa. Apesar de ser fi
 lho ilegítimo de D. Pedro I de Portugal, D. João afigurava-se como uma hipó
 tese preferível à perda de independência para os castelhanos. \nA primeira 
 grande vitória de D. Nuno Álvares Pereira frente aos castelhanos deu-se na 
 batalha dos Atoleiros em que pela primeira vez, na Península Ibérica, um ex
 ército a pé derrota um exército com cavalaria pesada, em Abril de 1384. Com
  a eleição em Abril de 1385 de D. João de Avis para rei, S. Nuno de Santa M
 aria é nomeado Condestável de Portugal e Conde de Ourém.\nPelos seus serviç
 os o rei deu-lhe títulos e terras. Ficou senhor de quase metade de Portugal
 . Para compensar os seus companheiros de armas, quis D. Nuno, em 1393, dura
 nte as tréguas, distribuir os bens por eles. Isto levou a uma intriga na co
 rte que acusava o Condestável de querer tornar esses companheiros em vassal
 os. No ano seguinte estava aberto um conflito com o rei. O Condestável defe
 nde-se que não podia devolver o que já não tinha. A coroa comprou proprieda
 des a alguns desses homens. Este conflito levou D. Nuno a considerar abando
 nar o país; reuniu-se com os seus homens e disse-lhes que quem quisesse fos
 se com ele; nessa altura corre a notícia de que Castela tinha quebrado as t
 réguas, logo D. Nuno corre com o seu exército para junto do rei, sendo o pr
 imeiro vassalo a fazê-lo. O rei faz então um acordo: as doações feitas, era
 m mantidas, mas o rei seria o único a ter vassalos, não podendo mais ningué
 m tê-los; aqueles que receberam bens do Condestável passavam a ser vassalos
  directos do rei.\nParticipou na conquista de Ceuta em 1415 e foi convidado
  pelo rei a comandar a guarnição que lá ia ficar. O condestável recusou, po
 is desejava abandonar a vida militar e abraçar a religiosa.\nAntes de entra
 r no convento, distribuiu os bens pelos netos. Tornou-se carmelita, em 1423
  (após a morte da sua mulher) e toma o nome de Irmão Nuno de Santa Maria. \
 nAo tornar-se frei Nuno, abdicou do título de conde e de Condestável e pret
 endeu ir pelas ruas pedir esmola, o que assustou o rei e este pediu ao infa
 nte D. Duarte que tinha muita admiração por Nuno, convencê-lo a não fazer t
 al coisa. O infante convenceu frei Nuno a apenas aceitar esmola do rei, o q
 ue foi aceite.\nPercorria as ruas de Lisboa e distribuía esmolas a quem pre
 cisava. No convento tinha um grande caldeirão usado pelos seus homens nas c
 ampanhas militares, onde se faziam refeições para os pobres. Estas acções l
 evaram o povo a chamá-lo de Santo Condestável.\nDurante o seu último ano de
  vida, o Rei D. João I fez-lhe uma visita no Carmo. D. João sempre consider
 ou que fora Nuno Álvares Pereira o seu mais próximo amigo, que o colocara n
 o trono e salvara a independência de Portugal.\nAí permanece até à morte, o
 corrida em 1 de Novembro de 1431, com 71 anos, rodeado pelo rei e os infant
 es.\nSão Nuno de Santa Maria foi canonizado pelo Papa Bento XVI, a 26 de ab
 ril de 2009.\n \nÉ o patrono da infantaria portuguesa\n\n\n \n
DTSTAMP:20260421T232726Z
DTSTART;TZID=Europe/Lisbon;VALUE=DATE:20251106
DTEND;TZID=Europe/Lisbon;VALUE=DATE:20251107
SEQUENCE:0
TRANSP:OPAQUE
END:VEVENT
END:VCALENDAR