BEGIN:VCALENDAR
VERSION:2.0
PRODID:-//jEvents 2.0 for Joomla//EN
CALSCALE:GREGORIAN
METHOD:PUBLISH
BEGIN:VTIMEZONE
TZID:Europe/Lisbon
BEGIN:STANDARD
DTSTART:20160112T000000
RDATE:20160327T020000
TZOFFSETFROM:+0100
TZOFFSETTO:+0000
TZNAME:Europe/Lisbon WET
END:STANDARD
BEGIN:STANDARD
DTSTART:20161030T010000
RDATE:20170326T020000
TZOFFSETFROM:+0100
TZOFFSETTO:+0000
TZNAME:Europe/Lisbon WET
END:STANDARD
BEGIN:STANDARD
DTSTART:20171029T010000
RDATE:20180325T020000
TZOFFSETFROM:+0100
TZOFFSETTO:+0000
TZNAME:Europe/Lisbon WET
END:STANDARD
BEGIN:STANDARD
DTSTART:20181028T010000
RDATE:20190331T020000
TZOFFSETFROM:+0100
TZOFFSETTO:+0000
TZNAME:Europe/Lisbon WET
END:STANDARD
BEGIN:STANDARD
DTSTART:20191027T010000
RDATE:20200329T020000
TZOFFSETFROM:+0100
TZOFFSETTO:+0000
TZNAME:Europe/Lisbon WET
END:STANDARD
BEGIN:STANDARD
DTSTART:20201025T010000
RDATE:20210328T020000
TZOFFSETFROM:+0100
TZOFFSETTO:+0000
TZNAME:Europe/Lisbon WET
END:STANDARD
BEGIN:DAYLIGHT
DTSTART:20160327T020000
RDATE:20161030T010000
TZOFFSETFROM:+0000
TZOFFSETTO:+0100
TZNAME:Europe/Lisbon WEST
END:DAYLIGHT
BEGIN:DAYLIGHT
DTSTART:20170326T020000
RDATE:20171029T010000
TZOFFSETFROM:+0000
TZOFFSETTO:+0100
TZNAME:Europe/Lisbon WEST
END:DAYLIGHT
BEGIN:DAYLIGHT
DTSTART:20180325T020000
RDATE:20181028T010000
TZOFFSETFROM:+0000
TZOFFSETTO:+0100
TZNAME:Europe/Lisbon WEST
END:DAYLIGHT
BEGIN:DAYLIGHT
DTSTART:20190331T020000
RDATE:20191027T010000
TZOFFSETFROM:+0000
TZOFFSETTO:+0100
TZNAME:Europe/Lisbon WEST
END:DAYLIGHT
BEGIN:DAYLIGHT
DTSTART:20200329T020000
RDATE:20201025T010000
TZOFFSETFROM:+0000
TZOFFSETTO:+0100
TZNAME:Europe/Lisbon WEST
END:DAYLIGHT
END:VTIMEZONE
BEGIN:VEVENT
UID:f15d40907f8e33de1783bbaabf5671b3
CATEGORIES:Santos
SUMMARY:Beato Pedro Francisco Jamet
DESCRIPTION;ENCODING=QUOTED-PRINTABLE:O Beato Pedro Francisco Jamet, nasceu a 13 de setembro de 1762 em França. O
 s pais de Pedro Francisco Jamet eram fazendeiros cristãos ricos, que tivera
 m oito filhos. Dos oito filhos, dois foram ordenados sacerdotes e uma rapar
 iga tornou-se religiosa. \nBeato Pedro Francisco Jamet, percebeu a sua voca
 ção religiosa, aos vinte anos e ingressou nessa altura na Universidade de C
 aen, para frequentar o curso de filosofia e teologia.\nNo ano de 1784, Pedr
 o Francisco Jamet entrou no seminário, e em 1787 foi ordenado sacerdote. O 
 Beato Pedro Francisco Jamet obteve o diploma de bacharel em teologia e o tí
 tulo de "mestre das artes", mas não pode concluir os seus estudos pois eclo
 diu a Revolução Francesa.\nExistia em Caen, a comunidade das Filhas do Bom 
 Salvador e corria o ano de 1790, quando Pedro Francisco Jamet foi nomeado c
 apelão e confessor do Instituto.\nPor durante a Revolução, se ter recusado 
 a fazer o juramento imposto pelos reacionários, o Beato Pedro Francisco Jam
 et foi preso, julgado e condenado à morte. No entanto, a sentença não chego
 u a ser executada e Pedro Francisco Jamet passou a dedicar-se às Filhas do 
 Bom Salvador, fazendo todos os esforços para as voltar a unir, pois devido 
 à Revolução estas encontravam-se dispersas. \nBeato Pedro Francisco Jamet c
 elebrava a missa escondido, amparava os companheiros vacilantes e mantinha 
 o ânimo e a coragem dos fiéis perseguidos.\nCom o fim da Revolução, restaur
 ou a Congregação do Bom Salvador, tendo sido eleito Superior. O Beato Pedro
  Francisco Jamet, foi ainda reitor da Universidade de Caen, levando a todos
  um clima de fé cristã.\nFaleceu com 83 anos.\nFoi  beatificado pelo Papa J
 oão Paulo II, no ano de 1987.\n \nNascimento: 13 de setembro de 1762 d.C., 
 em Fresnes, França\nMorte: 12 de janeiro de 1845 d.C., em Caen, França\n\n\
 n
DTSTAMP:20260420T010310Z
DTSTART;TZID=Europe/Lisbon;VALUE=DATE:20170112
DTEND;TZID=Europe/Lisbon;VALUE=DATE:20170113
SEQUENCE:0
TRANSP:OPAQUE
END:VEVENT
END:VCALENDAR