BEGIN:VCALENDAR
VERSION:2.0
PRODID:-//jEvents 2.0 for Joomla//EN
CALSCALE:GREGORIAN
METHOD:PUBLISH
BEGIN:VTIMEZONE
TZID:Europe/Lisbon
END:VTIMEZONE
BEGIN:VEVENT
UID:78361a5c5a49dcaf711f30aaabaee510
CATEGORIES:Santos
SUMMARY:Beatos Afonso de Navarrete e companheiros
DESCRIPTION;ENCODING=QUOTED-PRINTABLE:<p style="margin-bottom: 0.0001pt; text-align: justify; line-height: normal
 ;"><span style="font-size: 12pt; font-family: 'Times New Roman', serif;">Be
 ato Afonso de Navarrete e os seus 19 companheiros dominicanos, chegaram ao 
 Japão em 1602, e estabeleceram o seu campo missionário na ilha de Kyûshû. A
 pós a sua chegada, um edito de perseguição contra o cristianismo já havia s
 ido promulgado por Toyotomi Hideyoshi. Os tormentos que aguardavam os missi
 onários eram chocantes.</span></p><p style="margin-bottom: 0.0001pt; text-a
 lign: justify; line-height: normal;"><span style="font-size: 12pt; font-fam
 ily: 'Times New Roman', serif;">Apesar de tudo, tal como outros religiosos,
  Afonso de Navarrete e os dominicanos têm a coragem de entrar nesse país on
 de outros camaradas já haviam derramado o seu sangue pela fé. </span></p><p
  style="margin-bottom: 0.0001pt; text-align: justify; line-height: normal;"
 ><span style="font-size: 12pt; font-family: 'Times New Roman', serif;">Graç
 as à relativa calma que reinava na primeira década do século XVII, Afonso d
 e Navarrete e os seus companheiros conseguiram implantar as suas atividades
  em várias áreas da ilha de Kyushu e chegaram mesmo a fundar igrejas em Kyo
 to e Osaka. Mas a situação piora quando, em 1614, Tokugawa Ieyasu publica u
 m edito mais repressivo e cruel. Os religiosos são então obrigados a usar a
  escuridão da noite para evangelizar e encorajar os cristãos leigos a parti
 cipar da ajuda e proteção dos missionários. Ieyasu morre em 1616, mas Hidet
 ada, seu sucessor no shogunato, intensifica a opressão contra o cristianism
 o. Pouco a pouco, as prisões estão repletas de religiosos: jesuítas, agosti
 nianos, franciscanos, dominicanos e fervorosos leigos cristãos, que serão s
 ucessivamente conduzidos ao altar do martírio.</span></p><p style="margin-b
 ottom: 0.0001pt; text-align: justify; line-height: normal;"><span style="fo
 nt-size: 12pt; font-family: 'Times New Roman', serif;">Mesmo nas prisões, A
 fonso de Navarrete e os seus companheiros não pararam de evangelizar. </spa
 n></p>
DTSTAMP:20260422T233632Z
DTSTART;TZID=Europe/Lisbon;VALUE=DATE:20291106
DTEND;TZID=Europe/Lisbon;VALUE=DATE:20291107
SEQUENCE:0
TRANSP:OPAQUE
END:VEVENT
END:VCALENDAR