BEGIN:VCALENDAR
VERSION:2.0
PRODID:-//jEvents 2.0 for Joomla//EN
CALSCALE:GREGORIAN
METHOD:PUBLISH
BEGIN:VTIMEZONE
TZID:Europe/Lisbon
END:VTIMEZONE
BEGIN:VEVENT
UID:bfa251debc0bfc2e32c8a9b36f306944
CATEGORIES:Santos
SUMMARY:Beato Roberto Mayer
DESCRIPTION;ENCODING=QUOTED-PRINTABLE:<p style="margin-bottom: 0.0001pt; text-align: justify; line-height: normal
 ; background: white;"><span style="font-size: 12pt; font-family: 'Times New
  Roman', serif;">Roberto Mayer nasceu em Estugarda, Alemanha a 23 de Janeir
 o de 1876. Foi ordenado sacerdote em 1899 e entrou na Companhia de Jesus  n
 o ano seguinte em 1900. Depois de ter completado a sua formação, Roberto Ma
 yer trabalhou durante alguns anos como missionário popular, até que, no ano
  de 1912, foi nomeado capelão dos imigrantes em Munique.</span></p><p style
 ="margin-bottom: 0.0001pt; text-align: justify; line-height: normal; backgr
 ound: white;"><span style="font-size: 12pt; font-family: 'Times New Roman',
  serif;">O beato Roberto Mayer foi um dos primeiros a dar-se conta da verda
 deira índole do movimento hitleriano nascente e, já em 1923, declarou publi
 camente que um católico não podia ser nunca nacional-socialista.</span></p>
 <p style="margin-bottom: 0.0001pt; text-align: justify; line-height: normal
 ; background: white;"><span style="font-size: 12pt; font-family: 'Times New
  Roman', serif;">O Beato Roberto Mayer sentia uma paixão ardente no seu esp
 írito de seguir a Deus, que o conduzia ou, mais ainda, o impelia inequivoca
 mente numa só direção.</span></p><p style="margin-bottom: 0.0001pt; text-al
 ign: justify; line-height: normal; background: white;"><span style="font-si
 ze: 12pt; font-family: 'Times New Roman', serif;">Profundamente impregnado 
 de um irresistível amor de Deus, Roberto Mayer repetia constantemente na su
 a oração: &ldquo;Senhor, como quereis, quanto quereis, o que quereis, porqu
 e o quereis!&rdquo;. O Senhor e a sua vontade eram o íman da vida do beato.
 </span></p><p style="margin-bottom: 0.0001pt; text-align: justify; line-hei
 ght: normal; background: white;"><span style="font-size: 12pt; font-family:
  'Times New Roman', serif;">Em 1939, Roberto Mayer foi enviado para o campo
  de concentração de Sachsenhausen. Aí as suas forças físicas caíram de modo
  tão preocupante que os nazistas, receando que o Beato Roberto Mayer morres
 se como mártir, o encerraram, a 5 de Agosto de 1940, na Abadia de Ettal, on
 de permaneceu completamente isolado até ao fim da Segunda Guerra Mundial. R
 oberto Mayer retomou então as suas atividades sacerdotais na capital bávara
 , mas, no dia 1 de Novembro de 1945, veio a morrer. </span></p><p style="ma
 rgin-bottom: 0.0001pt; text-align: justify; line-height: normal; background
 : white;"><span style="font-size: 12pt; font-family: 'Times New Roman', ser
 if;">Roberto Mayer foi beatificado em Munique por João Paulo II em 1987.</s
 pan></p>
DTSTAMP:20260422T233707Z
DTSTART;TZID=Europe/Lisbon;VALUE=DATE:20291103
DTEND;TZID=Europe/Lisbon;VALUE=DATE:20291104
SEQUENCE:0
TRANSP:OPAQUE
END:VEVENT
END:VCALENDAR