BEGIN:VCALENDAR
VERSION:2.0
PRODID:-//jEvents 2.0 for Joomla//EN
CALSCALE:GREGORIAN
METHOD:PUBLISH
BEGIN:VTIMEZONE
TZID:Europe/Lisbon
END:VTIMEZONE
BEGIN:VEVENT
UID:c9b1cadccea82a3ddf809ff20dc1e2e6
CATEGORIES:Santos
SUMMARY:Fiéis Defuntos
DESCRIPTION;ENCODING=QUOTED-PRINTABLE:\n\nO Dia dos Fiéis Defuntos é também conhecido como o Dia de Finados ou Di
 a dos Mortos e é celebrado pela Igreja Católica no dia 2 de Novembro.\nDesd
 e o século II, alguns cristãos rezavam pelos falecidos, visitando os túmulo
 s dos mártires para rezar pelos que morreram. No século V, a Igreja dedicav
 a um dia do ano para rezar por todos os mortos, pelos quais ninguém rezava 
 e dos quais já ninguém se lembrava. Também o abade Odilo de Cluny, no ano d
 e 998 aos monges que orassem pelos mortos. \nNo século XIII ficou definido 
 que no dia 2 de novembro se passaria a celebrar os Fiéis Defuntos.\n\n
DTSTAMP:20260421T232725Z
DTSTART;TZID=Europe/Lisbon;VALUE=DATE:20251102
DTEND;TZID=Europe/Lisbon;VALUE=DATE:20251103
SEQUENCE:0
TRANSP:OPAQUE
END:VEVENT
END:VCALENDAR