BEGIN:VCALENDAR
VERSION:2.0
PRODID:-//jEvents 2.0 for Joomla//EN
CALSCALE:GREGORIAN
METHOD:PUBLISH
BEGIN:VTIMEZONE
TZID:Europe/Lisbon
END:VTIMEZONE
BEGIN:VEVENT
UID:d6278a6411840fad192a4bfaf3de45d7
CATEGORIES:Santos
SUMMARY:Edmundo Rich
DESCRIPTION;ENCODING=QUOTED-PRINTABLE:\n\n\n São Edmundo Rich nasceu a 30 de Novembro de 1180 (segundo algumas fo
 ntes, outras apontam o ano de 1170 como o ano do seu nascimento) em Abingto
 n, perto de Oxford (Reino Unido) e faleceu em Soissons, França a 16 de Nove
 mbro de 1240.\nSão Edmundo Rich iniciou os seus estudos na cidade de Oxford
 , seguindo depois para Paris onde os completou com sucesso e foi professor 
 de ciências profanas durante algum tempo.\nDepois de completar os seus estu
 dos, S. Edmundo Rich voltou para Inglaterra e ensinou arte e matemática em 
 Oxford onde se converteu ao catolicismo. Foi ordenado sacerdote, e passou a
  ensinar não ciências profanas, mas teologia.\nEm 1222 foi nomeado tesourei
 ro da Catedral de Salisbúria, vindo a ser, 12 anos mais tarde &mdash; enqua
 nto pregava uma cruzada decidida pelo Papa Gregório IX &mdash;, em 1234, no
 meado arcebispo de Cantuária onde batalhou com grande ardor pela disciplina
  e justiça.\nS. Edmundo Rich era um pregador eloquente, um teólogo eminente
  e um conselheiro procurado por muitos dos seus contemporâneos, o que o lev
 ou a tornar-se também o conselheiro do Rei Henrique III (1216-1272). Mais t
 arde presidiu a ratificação por Henrique III da Carta Magna em 1237. Mas qu
 ando o Cardeal Olt se tornou o Legado Papal com a proteção de Henrique, Edm
 undo protestou.\nUm desgastante e demorado feudo se fez entre o Rei e Edmun
 do e finalmente em 1240 S. Edmundo Rich abdicou de seu posto e da sua dioce
 se. Foi para França onde foi acolhido por S. Luís, rei de França e entrou n
 o mosteiro Cisterciense de Pontivy, onde desejava repousar.\n \nFoi canoniz
 ado em 1246.\n
DTSTAMP:20260423T011428Z
DTSTART;TZID=Europe/Lisbon;VALUE=DATE:20291116
DTEND;TZID=Europe/Lisbon;VALUE=DATE:20291117
SEQUENCE:0
TRANSP:OPAQUE
END:VEVENT
END:VCALENDAR