BEGIN:VCALENDAR
VERSION:2.0
PRODID:-//jEvents 2.0 for Joomla//EN
CALSCALE:GREGORIAN
METHOD:PUBLISH
BEGIN:VTIMEZONE
TZID:Europe/Lisbon
END:VTIMEZONE
BEGIN:VEVENT
UID:6f88eddf7f5bdbcb5835ed9df856dd5c
CATEGORIES:Santos
SUMMARY:Santa Inês de Assis
DESCRIPTION;ENCODING=QUOTED-PRINTABLE:\n\n\nSanta Inês de Assis nasceu no ano de 1198 em Assis (Itália). Era irmã
  de Santa Clara de Assis e mais nova do que esta.\nNo princípio de Abril de
  1212 Santa Inês foi juntar-se à irmã, que quinze dias antes tinha fugido d
 a casa paterna para abraçar o ideal franciscano e se recolher no mosteiro d
 e Santo Ângelo, perto de Assis. Os parentes, irritados com semelhantes gest
 os, que consideravam um segundo atentado contra o bom nome da família, serv
 iram-se de todos os recursos para tentarem impedi-la de realizar os seus in
 tentos, sem excluírem mesmo a violência física: Inês chegou a ser brutalmen
 te ferida pelo seu tio Monaldo, que teve o atrevimento de violar a clausura
  e a tranquilidade do mosteiro. Porém, nem mesmo a força bruta conseguiu fa
 zer vergar a jovem Inês. Foi São Francisco quem sugeriu para a nova consagr
 ada o nome de Inês, porque, pela fortaleza de que dera provas, esta jovem d
 e 15 anos recordava a valentia da mártir romana Santa Inês.\nEm 1212 São Fr
 ancisco trouxe as duas irmãs para São Damião. Em 1220 Inês foi enviada para
  Florença, como abadessa do mosteiro de Monticelli, fundado no ano anterior
 . Mas muitos outros mosteiros de Clarissas se orgulham de ter hospedado a s
 anta. Mais tarde regressou a São Damião, onde foi agraciada com uma apariçã
 o do Menino Jesus, por isso se representa por vezes Santa Inês com o menino
  Jesus nos braços. Em Assis, Santa Inês assistiu à morte da irmã Clara no d
 ia 12 de Agosto de 1253.\nNo coro do pobrezinho convento de São Damião aind
 a se podem ler os nomes das primeiras companheiras que seguiram as pegadas 
 de Santa Clara e São Francisco pelo caminho da renúncia total e absoluta po
 breza. São conhecidos nomes de senhoras e jovens de Assis que em São Damião
  tiveram o seu primeiro ninho: Hortolana, Inês, Beatriz, Pacífica, Benvinda
 , Cristiana, Amada, Iluminada, Consolada&hellip; Os três primeiros nomes pe
 rtencem a mulheres da família de Santa Clara: Hortolana era a sua mãe, e In
 ês e Beatriz eram suas irmãs.\nInês foi a primeira a seguir o exemplo da ir
 mã Clara, quinze dias depois dela, pouco depois veio a outra irmã, Beatriz,
  e por fim a mãe Hortolona. Inês, além de ter sido a primeira, também foi a
  que mais fielmente seguiu a irmã, vivendo à sua sombra luminosa, sempre de
 licada e obediente, duma firmeza de caráter excepcional, quase viril, em es
 pecial na observância da pobreza. Como superiora foi terna e caridosa, mas 
 inflexível e tenaz.\nFaleceu a 16 de Novembro de 1253. \n
DTSTAMP:20260423T020310Z
DTSTART;TZID=Europe/Lisbon;VALUE=DATE:20311119
DTEND;TZID=Europe/Lisbon;VALUE=DATE:20311120
SEQUENCE:0
TRANSP:OPAQUE
END:VEVENT
END:VCALENDAR