BEGIN:VCALENDAR
VERSION:2.0
PRODID:-//jEvents 2.0 for Joomla//EN
CALSCALE:GREGORIAN
METHOD:PUBLISH
BEGIN:VTIMEZONE
TZID:Europe/Lisbon
END:VTIMEZONE
BEGIN:VEVENT
UID:9874eee3fb4279b438a0d1161288629d
CATEGORIES:Santos
SUMMARY:São Bernardo de Corleone
DESCRIPTION;ENCODING=QUOTED-PRINTABLE:Santo Bernardo de Corleone, cujo nome verdadeiro era Fillipo Latini, foi um
  reliogioso italiano, hoje consagrado como santo pela Igreja Católica. \nBe
 rnardo Corleone provinha de uma família muito religiosa, o seu pai era sapa
 teiro e um dos seus irmãos era sacerdote.\nSanto Bernardo de Corleone entro
 u para a Ordem dos Capuchinhos Menores e passou a maior parte da sua vida n
 o convento de Palermo até ao seu falecimento, adquirindo fama de santidade.
  \n\nNascimento: 06 de fevereiro de 1605 d.C., em Corleone, Itália\nMorte: 
 12 de janeiro de 1667 d.C., em Palermo, Itália\n\n\n \n\n\nCuriosidade: O s
 eu processo de santificação iniciou-se seis anos após a sua morte, em 1673,
  tendo sido declarado Beato em 1768 pelo Papa Clemente XIII. Foi proclamado
  santo por João Paulo II, em 2001.\n
DTSTAMP:20260421T004140Z
DTSTART;TZID=Europe/Lisbon;VALUE=DATE:20250112
DTEND;TZID=Europe/Lisbon;VALUE=DATE:20250113
SEQUENCE:0
TRANSP:OPAQUE
END:VEVENT
END:VCALENDAR