BEGIN:VCALENDAR
VERSION:2.0
PRODID:-//jEvents 2.0 for Joomla//EN
CALSCALE:GREGORIAN
METHOD:PUBLISH
BEGIN:VEVENT
UID:830ac87366c1cd5c164dba2853d9aac4
CATEGORIES:Santos
SUMMARY:Santo António de Cachoeira
DESCRIPTION;ENCODING=QUOTED-PRINTABLE:\n\nem actualização\n
DTSTAMP:20260424T070353Z
DTSTART;TZID=Europe/Lisbon;VALUE=DATE:20381117
DTEND;TZID=Europe/Lisbon;VALUE=DATE:20381118
SEQUENCE:0
TRANSP:OPAQUE
END:VEVENT
END:VCALENDAR