BEGIN:VCALENDAR
VERSION:2.0
PRODID:-//jEvents 2.0 for Joomla//EN
CALSCALE:GREGORIAN
METHOD:PUBLISH
BEGIN:VTIMEZONE
TZID:Europe/Lisbon
END:VTIMEZONE
BEGIN:VEVENT
UID:830ac87366c1cd5c164dba2853d9aac4
CATEGORIES:Santos
SUMMARY:Santo António de Cachoeira
DESCRIPTION;ENCODING=QUOTED-PRINTABLE:<p>em actualização</p>
DTSTAMP:20260422T233631Z
DTSTART;TZID=Europe/Lisbon;VALUE=DATE:20291117
DTEND;TZID=Europe/Lisbon;VALUE=DATE:20291118
SEQUENCE:0
TRANSP:OPAQUE
END:VEVENT
END:VCALENDAR