BEGIN:VCALENDAR
VERSION:2.0
PRODID:-//jEvents 2.0 for Joomla//EN
CALSCALE:GREGORIAN
METHOD:PUBLISH
BEGIN:VTIMEZONE
TZID:Europe/Lisbon
END:VTIMEZONE
BEGIN:VEVENT
UID:f2c197d66bd6e6a7e08a5c5ecaa5c392
CATEGORIES:Santos
SUMMARY:Beata Madalena Morano
DESCRIPTION;ENCODING=QUOTED-PRINTABLE:\n\n\nBeata Madalena Catarina Morano nasceu em Chieri (Turim) no dia 15 de 
 Novembro de 1847 e faleceu a 26 de Março de 1908 em Ali Marina (Sicília). E
 ra a sexta de oito filhos de uma família modesta, embora descendente de nob
 res. A família da Beata Madalena Morano transferiu-se para Buttigliera d&rs
 quo;Asti e aos oito anos Madalena ficou órfã de pai. Nessa altura, Madalena
  Morano começou a trabalhar como tecelã em sua casa, um dos poucos ofícios 
 a que uma jovem se podia dedicar naquela época.\nRecebeu as primeiras liçõe
 s de gramática italiana dum parente que era sacerdote; aos 14 anos, o pároc
 o local deu-lhe o encargo de cuidar de uma escola maternal, apesar da sua i
 dade. Continuando os estudos, conseguiu o diploma de professora para ensina
 r nas escolas elementares.\nEm 1877, Madalena Morano confessa a sua mãe o d
 esejo de ingressar na vida religiosa. Porém como já tinha 30 anos, não foi 
 aceite nem nas Filhas da Caridade nem nas Dominicanas. Na altura era dissem
 inada naquela província a nova instituição salesiana fundada pelo dinâmico 
 sacerdote João Bosco. Dom Bosco dissuadiu a Beata Madalena Morano de tornar
 -se religiosa de clausura e encaminhou-a ao seu colaborador, o Pe. João Cag
 liero, que a convidou a entrar nas Filhas de Maria Auxiliadora.\nEm 4 de Se
 tembro de 1879, aos 32 anos, professou no Instituto das Filhas de Maria Aux
 iliadora.\nMadalena Morano assumiu vários cargos de responsabilidade; foi e
 nviada para a Sicília como Superiora em Alì Marina (Messina) e em seguida c
 omo inspetora da Inspetoria de São José. A sua atividade era prodigiosa e s
 urpreendente: em 26 anos fundou 19 casas, 12 oratórios, 6 escolas, 5 asilos
 , 11 laboratórios, 4 internatos, 3 escolas de religião, suscitando a admira
 ção de todos, inclusive das autoridades eclesiásticas. Dizia-se dela: &ldqu
 o;É uma grande mulher, é uma mulher extraordinária&rdquo;.\nMadre Morano, c
 omo era conhecida, tinha uma união ininterrupta com Deus, um desejo de sant
 idade e uma vontade de acção salesiana imensa.\nFoi em 5 de Novembro de 199
 4.  \n\n\n \n
DTSTAMP:20260423T073251Z
DTSTART;TZID=Europe/Lisbon;VALUE=DATE:20321114
DTEND;TZID=Europe/Lisbon;VALUE=DATE:20321115
SEQUENCE:0
TRANSP:OPAQUE
END:VEVENT
END:VCALENDAR