BEGIN:VCALENDAR
VERSION:2.0
PRODID:-//jEvents 2.0 for Joomla//EN
CALSCALE:GREGORIAN
METHOD:PUBLISH
BEGIN:VTIMEZONE
TZID:Europe/Lisbon
END:VTIMEZONE
BEGIN:VEVENT
UID:f2d5fd35f2e23ae352f54ce12f8a6c49
CATEGORIES:Santos
SUMMARY:Santo Alberto Magno
DESCRIPTION;ENCODING=QUOTED-PRINTABLE:\n\n\nAlberto Magno, também conhecido como Alberto, o Grande, e Alberto de 
 Colónia, nasceu no ano de 1193 e faleceu a 15 de Novembro de 1280, com 87 a
 nos.\nPensa-se que S. Alberto Magno tenha nascido em Lauingen, na Alemanha,
  pois o próprio se intitulava como "Alberto de Lauingen".\nAlberto Magno fo
 i um filósofo, escritor e teólogo católico. Não se sabe quando iniciou os s
 eus estudos, mas S. Alberto Magno estudou principalmente na Universidade de
  Pádua, onde conheceu as obras de Aristóteles. \nRudolph de Novamagia conta
  que Alberto teria tido uma visão da Virgem Maria, que o convenceu aceitar 
 o hábito de sacerdote. Em 1223 (ou 1229), S. Alberto entrou para a Ordem do
 s Pregadores (Obra de S. Domingos &ndash; Dominicanos) contra a vontade da 
 sua família e estudou teologia na Universidade de Bolonha. S. Alberto Magno
  foi depois seleccionado para preencher uma cadeira de professor em Colónia
 , onde havia um mosteiro dominicano. S. Alberto Magno ensinou durante muito
 s anos na região. \nS. Alberto Magno foi o primeiro a comentar sobre pratic
 amente todas as obras de Aristóteles, tornando-as acessíveis para o debate 
 académico mais amplo. O estudo de Aristóteles levou-o a conhecer e comentar
  também sobre os ensinamentos dos estudiosos muçulmanos, principalmente Avi
 cena e Averróis, o que o colocou no centro do debate académico.\nEm 1245, A
 lberto tornou-se mestre em teologia pelas mãos de Guerico de Saint-Quentin,
  o primeiro dominicano alemão a conquistar o posto. Depois disso, conseguiu
  lecionar teologia na Universidade de Paris como titular da cadeira de teol
 ogia no Colégio de São Tiago. Neste período, S. Tomás de Aquino tornou-se u
 m de seus estudantes e manteve-se sempre firme às suas doutrinas e às influ
 ências que recebeu de outros antigos filósofos. Mesmo sendo um frade, Alber
 to compreendia muitos aspectos do mundo natural, como a metafísica, a físic
 a e a matemática.\nEm 1254, Alberto tornou-se superior provincial de sua or
 dem, um trabalho difícil que ele realizou com grande cuidado e eficiência. 
 Durante o seu mandato, S. Alberto defendeu publicamente os dominicanos cont
 ra os ataques do corpo docente secular e regular da Universidade de Paris, 
 escreveu um comentário sobre São João Evangelista e respondeu ao que ele pe
 rcebia como "erros" do filósofo islâmico Averróis. Cinco anos depois, Alber
 to participou de um capítulo geral da Ordem dos Pregadores em Valenciennes.
  A partir daí iniciou-se a tradição da filosofia escolástica dominicana na 
 prática\nNo ano de 1260, Alexandre IV nomeou-o bispo de Ratisbona, um cargo
  que ele manteve por apenas três anos. Neste período, Alberto melhorou sua 
 reputação de humildade ao recusar andar montado a cavalo como ditava a legi
 slação dominicana e andar sempre a pé por sua diocese. Este hábito valeu-lh
 e o apelido carinhoso de "botas, o bispo" de seus paroquianos. Depois de re
 nunciar ao cargo, passou o resto de sua vida em uma aposentadoria parcial m
 orando em diversas casas monásticas de sua ordem e pregando por todo o sul 
 da moderna Alemanha. Em 1270, pregou a Oitava Cruzada na Áustria. Depois di
 sso, ficou famoso por seu papel de mediador entre os diversos partidos que 
 lutavam na região. \nDepois de uma súbita deterioração de sua saúde em 1278
 , Alberto Magno faleceu em 15 de novembro de 1280 no convento dominicano em
  Colónia (Alemanha).\nFoi beatificado pelo Papa Gregório XV em 1622 e canon
 izado pelo Papa Pio XI em 1931. Foi declarado Doutor da Igreja pelo Papa Pi
 o XI na data da sua canonização. \n\n\n \n
DTSTAMP:20260423T032604Z
DTSTART;TZID=Europe/Lisbon;VALUE=DATE:20311115
DTEND;TZID=Europe/Lisbon;VALUE=DATE:20311116
SEQUENCE:0
TRANSP:OPAQUE
END:VEVENT
END:VCALENDAR