BEGIN:VCALENDAR
VERSION:2.0
PRODID:-//jEvents 2.0 for Joomla//EN
CALSCALE:GREGORIAN
METHOD:PUBLISH
BEGIN:VTIMEZONE
TZID:Europe/Lisbon
END:VTIMEZONE
BEGIN:VEVENT
UID:742ce77fa3bc1798f6d61d997ef0410f
CATEGORIES:Santos
SUMMARY:Todos os Santos Carmelitas
DESCRIPTION;ENCODING=QUOTED-PRINTABLE:A semelhança da Solenidade de Todos os Santos, comemorado no dia 1 de Novem
 bro, a família Carmelitana (Carmelitas da Antiga Observância, Carmelitas De
 scalços e Institutos e Congregações de Espiritualidade Carmelitana) comemor
 a a Festa de Todos os Santos Carmelitas no dia 14 de Novembro.\nNeste dia s
 ão homenageados todos aqueles santos, santas, beatos e beatas carmelitas (c
 uja santidade foi reconhecida oficialmente pela Igreja), bem como todos os 
 habitantes do "Carmelo Celeste", que já gozam da visão beatífica da Santíss
 ima Trindade, porém, que não foram ou não serão beatificados e/ou canonizad
 os.\nEremitas do Monte Carmelo (dos séculos XII e XIII), frades mendicantes
 , monjas de clausura, religiosos de inspiração carmelitana e seculares que 
 vivem o mesmo carisma em meio ao "mundo" (na família, no trabalho e na soci
 edade), quais belíssimas estrelas, iluminam os Céus e eternamente elevam a 
 Deus hinos de louvor por suas misericórdias.\nA Ordem Carmelita "premiou" a
  Igreja com insignes santos: São Brocardo, São Bertoldo, Santo Alberto de J
 erusalém, Santo Alberto de Trápani, Santo Ângelo da Sicília, São Pedro Tomá
 s, Santo André Corsini, Santa Maria Madalena de Pazzi, Santa Teresa de Ávil
 a (ou de Jesus), São João da Cruz, Santa Teresa Margarida Redi, São Rafael 
 Kalinowski, Santa Teresinha do Menino Jesus, Santa Teresa Benedita da Cruz 
 (Edith Stein), Santa Teresa de Los Andes, Santa Maria Maravilhas de Jesus, 
 Beato Batista Mantovani, Beato Titus Brandsma, Beato Ciríaco Elias Chavara,
  Beato Francisco Palau y Quer, Beata Elisabete de Trindade, Beata Maria Sac
 rário, Beata Maria de Jesus, Beata Maria de Jesus Crucificado, Beata Maria 
 dos Anjos, Beata Josefa Naval (da Ordem Secular) e muitos outros, que enriq
 ueceram a Igreja e o mundo com o exemplo de suas vidas totalmente dedicadas
  ao Reino, com o testemunho de sua fidelidade a Deus e à Igreja, bem como c
 om a sabedoria de seus escritos.\nProcuremos sempre conhecer esses nossos i
 rmãos e irmãs! Muitos outros (dezenas) aguardam o reconhecimento oficial da
  Igreja a respeito de suas virtudes heroicas e milagres alcançados por sua 
 intercessão.\nImitemos-lhes a fé, a constância, a fidelidade, a determinaçã
 o e o amor a Deus e ao próximo que os levou ao "Cume do Monte Carmelo" que 
 é o próprio Cristo Jesus. Amém!\nTodos os Santos Carmelitas, rogai por nós!
 \n
DTSTAMP:20260422T051201Z
DTSTART;TZID=Europe/Lisbon;VALUE=DATE:20271114
DTEND;TZID=Europe/Lisbon;VALUE=DATE:20271115
SEQUENCE:0
TRANSP:OPAQUE
END:VEVENT
END:VCALENDAR