BEGIN:VCALENDAR
VERSION:2.0
PRODID:-//jEvents 2.0 for Joomla//EN
CALSCALE:GREGORIAN
METHOD:PUBLISH
BEGIN:VTIMEZONE
TZID:Europe/Lisbon
END:VTIMEZONE
BEGIN:VEVENT
UID:d893972ab2d44f39b390f293c5ad3965
CATEGORIES:Santos
SUMMARY:Beato Eugénio Bossilkov
DESCRIPTION;ENCODING=QUOTED-PRINTABLE: Eugénio Bossilkov nasceu na cidade de Belém do Danúbio, Bulgária, no dia 1
 6 de Novembro de 1900 e faleceu a 11 de Novembro de 1952.\nFilho de campone
 ses católicos romanos, Eugénio Bossilkov foi baptizado como Vicente e fez o
 s seus votos na Congregação da Paixão em 1920. Foi ordenado sacerdote em 19
 26, com o nome de Eugénio.\nO Beato Eugénio Bossilkov era um homem muito in
 teligente, e que contribuiu para o desenvolvimento da diocese de Nicópolis,
  orientada por um bispo passionista.\nEugénio Bossilkov era um padre activo
  e colaborador, trabalhando para a aproximação entre a Igreja Católica e a 
 Igreja Ortodoxa russa. Eugénio Bossilkov e tornou-se o bispo de Russe, na B
 ulgária, em 1947.\nA Bulgária vivia em 1947, sob o domínio do regime comuni
 sta do russo Josef Stálin. O bispo Eugénio foi preso em Julho de 1952 (no a
 uge da repressão desse regime), contra os cultos religiosos, principalmente
  contra a Igreja Católica, por se negar a desobedecer à Santa Sé.\nO regime
  comunista proibiu na altura feriados religiosos, manifestações fora das ig
 rejas e obras sociais dos católicos romanos. Também fecharam escolas, hospi
 tais e orfanatos. O objectivo era promover a adesão da pequena, mas compact
 a, comunidade católica búlgara ao culto ortodoxo através de uma lei especia
 l que induzia a total desobediência ao sumo sacerdote da Igreja.\nA polícia
  política do regime estalinista búlgaro acusou-o de subversão e espionagem 
 por conta da Igreja de Roma. Eugénio Bossilkov foi condenado à morte a 3 de
  outubro de 1952. O Beato Eugénio Bossilkov, morreu fuzilado no dia 11 de N
 ovembro de 1952, depois de ter sido torturado, em Sófia, Bulgária.\nApesar 
 de ter sido fuzilado, Eugénio Bossilkov foi dado como desaparecido pelo reg
 ime. Nem mesmo a família obtinha informações de seu paradeiro. No anuário p
 ontifício, ainda aparecia, como o bispo de Russe em 1975. Só naquele ano (2
 3 anos após a sua morte) a notificação do seu falecimento foi dada oficialm
 ente pelo governo búlgaro e depois confirmada com o acesso aos arquivos e a
 o relatório do fuzilamento.\nEugénio Bossilkov foi beatificado a 15 de Març
 o de 1998 pelo Papa João Paulo II, e proclamado "primeiro mártir do século 
 XX da Europa do Leste", morto em nome da fé e da fidelidade ao Papa.\n\n\n 
 \n
DTSTAMP:20260422T125229Z
DTSTART;TZID=Europe/Lisbon;VALUE=DATE:20261113
DTEND;TZID=Europe/Lisbon;VALUE=DATE:20261114
SEQUENCE:0
TRANSP:OPAQUE
END:VEVENT
END:VCALENDAR