BEGIN:VCALENDAR
VERSION:2.0
PRODID:-//jEvents 2.0 for Joomla//EN
CALSCALE:GREGORIAN
METHOD:PUBLISH
BEGIN:VEVENT
UID:33a6a76bdd5622382cbce9f60fad0772
CATEGORIES:Santos
SUMMARY:Santa Maria, mãe de Deus 
DESCRIPTION;ENCODING=QUOTED-PRINTABLE:\n\n\nA Virgem Maria, é celebrada no primeiro dia do ano, que é conhecido f
 ormalmente como Solenidade de Maria, Mãe de Deus.\nEmbora nos Evangelhos Ma
 ria surja apenas ocasionalmente durante a vida adulta de Jesus, ela terá si
 do uma presença constante na vida de Cristo. É muita vezes considerada a pr
 imeira discípula de Cristo e encontrava-se com os apóstolos no dia de Pente
 costes, quando estes foram visitados pelo Espírito Santo.\n É também conhec
 ida como Maria de Nazaré, Santa Maria, Mãe Maria, Virgem Maria, Nossa Senho
 ra, Santíssima Virgem Maria, Theotokos, Maria, Mãe de Deus. Maria teria viv
 ido na Galileia no final do século 1 a.C. e início do século 1 d.C..\nCasou
  com S. José e acompanhou-o a Belém, onde nasceu Jesus. De acordo com o cos
 tume judaico, o noivado teria ocorrido quando ela tinha cerca de 12 anos, o
  nascimento de Jesus aconteceu cerca de um ano depois.\n\nO Novo Testamento
 começa o seu relato da vida de Maria com a anunciação, quando o anjo Gabrie
 l lhe apareceu anunciando que Deus a escolheu para ser a mãe de Jesus. A tr
 adição da Igreja e os escritos apócrifos afirmam que os pais de Maria eram 
 um casal de idosos, São Joaquim e Santa Ana.\nA Bíblia registra o papel de 
 Maria em eventos importantes da vida de Jesus, desde o seu nascimento até à
  sua ascensão. \nNascimento: Século I a.C.Morte: Depois de 33 d.C.\n
X-EXTRAINFO:\n
DTSTAMP:20260424T193826Z
DTSTART;TZID=Europe/Lisbon;VALUE=DATE:20460101
DTEND;TZID=Europe/Lisbon;VALUE=DATE:20460102
SEQUENCE:0
TRANSP:OPAQUE
END:VEVENT
END:VCALENDAR