BEGIN:VCALENDAR
VERSION:2.0
PRODID:-//jEvents 2.0 for Joomla//EN
CALSCALE:GREGORIAN
METHOD:PUBLISH
BEGIN:VTIMEZONE
TZID:Europe/Lisbon
BEGIN:STANDARD
DTSTART:20150110T000000
RDATE:20150329T020000
TZOFFSETFROM:+0100
TZOFFSETTO:+0000
TZNAME:Europe/Lisbon WET
END:STANDARD
BEGIN:STANDARD
DTSTART:20151025T010000
RDATE:20160327T020000
TZOFFSETFROM:+0100
TZOFFSETTO:+0000
TZNAME:Europe/Lisbon WET
END:STANDARD
BEGIN:STANDARD
DTSTART:20161030T010000
RDATE:20170326T020000
TZOFFSETFROM:+0100
TZOFFSETTO:+0000
TZNAME:Europe/Lisbon WET
END:STANDARD
BEGIN:STANDARD
DTSTART:20171029T010000
RDATE:20180325T020000
TZOFFSETFROM:+0100
TZOFFSETTO:+0000
TZNAME:Europe/Lisbon WET
END:STANDARD
BEGIN:STANDARD
DTSTART:20181028T010000
RDATE:20190331T020000
TZOFFSETFROM:+0100
TZOFFSETTO:+0000
TZNAME:Europe/Lisbon WET
END:STANDARD
BEGIN:STANDARD
DTSTART:20191027T010000
RDATE:20200329T020000
TZOFFSETFROM:+0100
TZOFFSETTO:+0000
TZNAME:Europe/Lisbon WET
END:STANDARD
BEGIN:STANDARD
DTSTART:20201025T010000
RDATE:20210328T020000
TZOFFSETFROM:+0100
TZOFFSETTO:+0000
TZNAME:Europe/Lisbon WET
END:STANDARD
BEGIN:DAYLIGHT
DTSTART:20150329T020000
RDATE:20151025T010000
TZOFFSETFROM:+0000
TZOFFSETTO:+0100
TZNAME:Europe/Lisbon WEST
END:DAYLIGHT
BEGIN:DAYLIGHT
DTSTART:20160327T020000
RDATE:20161030T010000
TZOFFSETFROM:+0000
TZOFFSETTO:+0100
TZNAME:Europe/Lisbon WEST
END:DAYLIGHT
BEGIN:DAYLIGHT
DTSTART:20170326T020000
RDATE:20171029T010000
TZOFFSETFROM:+0000
TZOFFSETTO:+0100
TZNAME:Europe/Lisbon WEST
END:DAYLIGHT
BEGIN:DAYLIGHT
DTSTART:20180325T020000
RDATE:20181028T010000
TZOFFSETFROM:+0000
TZOFFSETTO:+0100
TZNAME:Europe/Lisbon WEST
END:DAYLIGHT
BEGIN:DAYLIGHT
DTSTART:20190331T020000
RDATE:20191027T010000
TZOFFSETFROM:+0000
TZOFFSETTO:+0100
TZNAME:Europe/Lisbon WEST
END:DAYLIGHT
BEGIN:DAYLIGHT
DTSTART:20200329T020000
RDATE:20201025T010000
TZOFFSETFROM:+0000
TZOFFSETTO:+0100
TZNAME:Europe/Lisbon WEST
END:DAYLIGHT
END:VTIMEZONE
BEGIN:VEVENT
UID:1980ca93aa7bef075234a1f19396a849
CATEGORIES:Santos
SUMMARY:Bernardo Scammacca
DESCRIPTION;ENCODING=QUOTED-PRINTABLE:Bernardo Scammacca nasceu numa família pobre, e depois de uma juventude dis
 sipada, prostrado por uma grave ferida recebida num duelo, ingressa na Orde
 m dos Pregadores no ano de 1452. \nDedicado aos mais necessitados, Bernardo
  Scammacca, fundou um hospital - que ainda hoje existe - e com a ajuda dos 
 cidadãos e foi responsável por este hospital até falecer.\nBernardo Scammac
 ca foi prior da ordem na Catânia, mais tarde em Palermo e por fim Bernardo 
 Scammacca foi vigário geral dos conventos reformados da Sicília. \n\nNascim
 ento: ano 1430 d.C., na Catânia, Itália\nMorte: 11 de janeiro do ano 1487 d
 .C., na Catânia, Itália\n\nCuriosidade: Após, a sua morte no ano de 1487, a
  sua sepultura passou a ser visitada por fiéis em busca da sua intercessão.
  Assim, foi decidido transladar o corpo para um lugar mais apropriado. Ao a
 brir a cova, o seu corpo estava incorrupto, e até hoje permanece abrigada n
 uma urna na Igreja de São Domingos, na Catânia, Sícilia na Itália. \n
DTSTAMP:20260420T005320Z
DTSTART;TZID=Europe/Lisbon;VALUE=DATE:20160111
DTEND;TZID=Europe/Lisbon;VALUE=DATE:20160112
SEQUENCE:0
TRANSP:OPAQUE
END:VEVENT
END:VCALENDAR