BEGIN:VCALENDAR
VERSION:2.0
PRODID:-//jEvents 2.0 for Joomla//EN
CALSCALE:GREGORIAN
METHOD:PUBLISH
BEGIN:VTIMEZONE
TZID:Europe/Lisbon
END:VTIMEZONE
BEGIN:VEVENT
UID:78361a5c5a49dcaf711f30aaabaee510
CATEGORIES:Santos
SUMMARY:Beatos Afonso de Navarrete e companheiros
DESCRIPTION;ENCODING=QUOTED-PRINTABLE:Beato Afonso de Navarrete e os seus 19 companheiros dominicanos, chegaram a
 o Japão em 1602, e estabeleceram o seu campo missionário na ilha de Kyûshû.
  Após a sua chegada, um edito de perseguição contra o cristianismo já havia
  sido promulgado por Toyotomi Hideyoshi. Os tormentos que aguardavam os mis
 sionários eram chocantes.\nApesar de tudo, tal como outros religiosos, Afon
 so de Navarrete e os dominicanos têm a coragem de entrar nesse país onde ou
 tros camaradas já haviam derramado o seu sangue pela fé. \nGraças à relativ
 a calma que reinava na primeira década do século XVII, Afonso de Navarrete 
 e os seus companheiros conseguiram implantar as suas atividades em várias á
 reas da ilha de Kyushu e chegaram mesmo a fundar igrejas em Kyoto e Osaka. 
 Mas a situação piora quando, em 1614, Tokugawa Ieyasu publica um edito mais
  repressivo e cruel. Os religiosos são então obrigados a usar a escuridão d
 a noite para evangelizar e encorajar os cristãos leigos a participar da aju
 da e proteção dos missionários. Ieyasu morre em 1616, mas Hidetada, seu suc
 essor no shogunato, intensifica a opressão contra o cristianismo. Pouco a p
 ouco, as prisões estão repletas de religiosos: jesuítas, agostinianos, fran
 ciscanos, dominicanos e fervorosos leigos cristãos, que serão sucessivament
 e conduzidos ao altar do martírio.\nMesmo nas prisões, Afonso de Navarrete 
 e os seus companheiros não pararam de evangelizar. \n
DTSTAMP:20260422T070901Z
DTSTART;TZID=Europe/Lisbon;VALUE=DATE:20281106
DTEND;TZID=Europe/Lisbon;VALUE=DATE:20281107
SEQUENCE:0
TRANSP:OPAQUE
END:VEVENT
END:VCALENDAR