BEGIN:VCALENDAR
VERSION:2.0
PRODID:-//jEvents 2.0 for Joomla//EN
CALSCALE:GREGORIAN
METHOD:PUBLISH
BEGIN:VTIMEZONE
TZID:Europe/Lisbon
END:VTIMEZONE
BEGIN:VEVENT
UID:1957d06edf5c8cac7d3ff94cd206c390
CATEGORIES:Santos
SUMMARY:Beata Francisca de Amboise
DESCRIPTION;ENCODING=QUOTED-PRINTABLE:\n\nBeata Francisca de Amboise, nasceu em Thouars (França) em 28 de Setembr
 o de 1427, filha do visconde Luís e da baronesa Maria de Rieux. Faleceu a 4
  de Novembro de 1485. Aos quatro anos, Francisca foi prometida esposa de Pe
 dro, filho do duque da Bretanha. A sua futura sogra, Juana, irmã do rei Car
 los VII de França, imprimiu na alma da Beata Francisca de Amboise um espíri
 to profundamente cristão.\nEm 1450, na catedral de Reims, Francisca de Ambo
 ise foi coroada como Duquesa de Bretanha juntamente com seu esposo, Pedro. 
 De comum acordo com ele, decidiram conservar-se castos e oferecer à alta so
 ciedade um modelo de lar cristão com a prática assídua de excelsas virtudes
 . Juntos (Francisca de Amboise e o seu marido Pedro) consagraram-se à Virge
 m Maria em seu santuário de Folgoët, onde deixaram fundada uma missa para s
 er celebrada todos os sábados.Francisca de Amboise soube travar os excessos
  da moda feminina na corte e dedicou-se particularmente a obras de piedade 
 e caridade. Todos as quartas-feiras sentava a sua mesa 11 donzelas pobres; 
 no dia de Natal escolhia uma criança pobre e vestia-a com trajes novos hosp
 edando a criança como representante do Menino Jesus; na quinta-feira santa 
 lavava os pés a doze pobres e oferecia-lhes um traje novo.Francisca de Ambo
 ise trabalhou tanto em favor da religião católica que, segundo diz um histo
 riador, &ldquo;Deus se serviu desta jovem para realizar uma reforma geral n
 a Bretanha e para fazer reflorescer, depois de tantas desgraças e misérias,
  um século de Ouro&rdquo;. Morto seu esposo e conhecedora a fundo das misér
 ias da corte, Francisca de Amboise resolveu fazer-se monja de clausura. Mil
  dificuldades lhe apareceram; Luís Xl, rei de França, pôs em jogo todos os 
 meios para que Francisca desistisse, mas tudo foi em vão, e o monarca acabo
 u de se desenganar quando ela no ato de receber a comunhão, fez em alta voz
  o voto de castidade.Depois de um providencial encontro com o Beato João So
 reth ( falecido no ano de 1471), ao saxão Prior Geral dos carmelitas, Franc
 isca decidiu ingressar entre as monjas carmelitas de clausura.Junto com um 
 grupo de carmelitas vindas de Bélgica, iniciou Francisca a sua vida religio
 sa no convento de Bondón, fundado por ela mesma. Francisca de amboise renun
 ciou a seus títulos e não quis trato nem distinção especial, mas sim ser co
 nsiderada como &ldquo;Humilde serva de Cristo&rdquo;. Desde então o seu gra
 nde empenho foi o de fazer efetiva a sua total entrega a Deus.Nomeada prior
 esa pela comunidade, a Beata Francisca teve que se dirigir mais tarde com o
  mesmo título a um novo convento, fundado também por ela perto de Nantes. N
 o exercício deste cargo alimentava o espírito de suas religiosas com sábias
  &ldquo;Exortações&rdquo;, que foram publicadas mais tarde. Francisca de Am
 boise era exemplar em todas as virtudes, destacando-se por seu espírito de 
 oração e penitência. Insistiu sempre na prática do silêncio, a obediência e
  a pobreza. Introduziu a comunhão frequente e uma estrita clausura. O seu c
 ulto foi reconhecido pelo Papa Pio IX em 16 de Julho de 1867.
DTSTAMP:20260423T073419Z
DTSTART;TZID=Europe/Lisbon;VALUE=DATE:20321105
DTEND;TZID=Europe/Lisbon;VALUE=DATE:20321106
SEQUENCE:0
TRANSP:OPAQUE
END:VEVENT
END:VCALENDAR