BEGIN:VCALENDAR
VERSION:2.0
PRODID:-//jEvents 2.0 for Joomla//EN
CALSCALE:GREGORIAN
METHOD:PUBLISH
BEGIN:VEVENT
UID:973513617b05417459d0bc8a5388002e
CATEGORIES:Santos
SUMMARY:Santo André Corsini
DESCRIPTION;ENCODING=QUOTED-PRINTABLE:Santo André Corsini foi um religioso carmelita italiano.\nSanto André Corsi
 ni abraçou a vida religiosa em Florença, sua cidade natal. Santo André Cors
 ini exerceu a função de provincial na província carmelita da Toscana. \nNo 
 dia 13 de outubro de 1349, Santo André Corsini foi nomeado bispo de Fiesole
  pelo Papa Clemente VI. Santo André Corsini distinguiu-se pelo zelo apostól
 ico, prudência e amor em relação aos pobres.\nSanto André Corsini foi canon
 izado em 1629.\n\nNascimento: 30 de novembro do ano 1301 d.C., em Florença,
  Itália\nMorte: 06 de janeiro do ano 1374 d. C., em Fiesole, Itália\n\n
DTSTAMP:20260424T053502Z
DTSTART;TZID=Europe/Lisbon;VALUE=DATE:20420109
DTEND;TZID=Europe/Lisbon;VALUE=DATE:20420110
SEQUENCE:0
TRANSP:OPAQUE
END:VEVENT
END:VCALENDAR