BEGIN:VCALENDAR
VERSION:2.0
PRODID:-//jEvents 2.0 for Joomla//EN
CALSCALE:GREGORIAN
METHOD:PUBLISH
BEGIN:VTIMEZONE
TZID:Europe/Lisbon
BEGIN:STANDARD
DTSTART:20200109T000000
RDATE:20200329T020000
TZOFFSETFROM:+0100
TZOFFSETTO:+0000
TZNAME:Europe/Lisbon WET
END:STANDARD
BEGIN:STANDARD
DTSTART:20201025T010000
RDATE:20210328T020000
TZOFFSETFROM:+0100
TZOFFSETTO:+0000
TZNAME:Europe/Lisbon WET
END:STANDARD
BEGIN:DAYLIGHT
DTSTART:20200329T020000
RDATE:20201025T010000
TZOFFSETFROM:+0000
TZOFFSETTO:+0100
TZNAME:Europe/Lisbon WEST
END:DAYLIGHT
END:VTIMEZONE
BEGIN:VEVENT
UID:973513617b05417459d0bc8a5388002e
CATEGORIES:Santos
SUMMARY:Santo André Corsini
DESCRIPTION;ENCODING=QUOTED-PRINTABLE:Santo André Corsini foi um religioso carmelita italiano.\nSanto André Corsi
 ni abraçou a vida religiosa em Florença, sua cidade natal. Santo André Cors
 ini exerceu a função de provincial na província carmelita da Toscana. \nNo 
 dia 13 de outubro de 1349, Santo André Corsini foi nomeado bispo de Fiesole
  pelo Papa Clemente VI. Santo André Corsini distinguiu-se pelo zelo apostól
 ico, prudência e amor em relação aos pobres.\nSanto André Corsini foi canon
 izado em 1629.\n\nNascimento: 30 de novembro do ano 1301 d.C., em Florença,
  Itália\nMorte: 06 de janeiro do ano 1374 d. C., em Fiesole, Itália\n\n
DTSTAMP:20260420T074524Z
DTSTART;TZID=Europe/Lisbon;VALUE=DATE:20210109
DTEND;TZID=Europe/Lisbon;VALUE=DATE:20210110
SEQUENCE:0
TRANSP:OPAQUE
END:VEVENT
END:VCALENDAR