BEGIN:VCALENDAR
VERSION:2.0
PRODID:-//jEvents 2.0 for Joomla//EN
CALSCALE:GREGORIAN
METHOD:PUBLISH
BEGIN:VTIMEZONE
TZID:Europe/Lisbon
BEGIN:STANDARD
DTSTART:20170107T000000
RDATE:20170326T020000
TZOFFSETFROM:+0100
TZOFFSETTO:+0000
TZNAME:Europe/Lisbon WET
END:STANDARD
BEGIN:STANDARD
DTSTART:20171029T010000
RDATE:20180325T020000
TZOFFSETFROM:+0100
TZOFFSETTO:+0000
TZNAME:Europe/Lisbon WET
END:STANDARD
BEGIN:STANDARD
DTSTART:20181028T010000
RDATE:20190331T020000
TZOFFSETFROM:+0100
TZOFFSETTO:+0000
TZNAME:Europe/Lisbon WET
END:STANDARD
BEGIN:STANDARD
DTSTART:20191027T010000
RDATE:20200329T020000
TZOFFSETFROM:+0100
TZOFFSETTO:+0000
TZNAME:Europe/Lisbon WET
END:STANDARD
BEGIN:STANDARD
DTSTART:20201025T010000
RDATE:20210328T020000
TZOFFSETFROM:+0100
TZOFFSETTO:+0000
TZNAME:Europe/Lisbon WET
END:STANDARD
BEGIN:DAYLIGHT
DTSTART:20170326T020000
RDATE:20171029T010000
TZOFFSETFROM:+0000
TZOFFSETTO:+0100
TZNAME:Europe/Lisbon WEST
END:DAYLIGHT
BEGIN:DAYLIGHT
DTSTART:20180325T020000
RDATE:20181028T010000
TZOFFSETFROM:+0000
TZOFFSETTO:+0100
TZNAME:Europe/Lisbon WEST
END:DAYLIGHT
BEGIN:DAYLIGHT
DTSTART:20190331T020000
RDATE:20191027T010000
TZOFFSETFROM:+0000
TZOFFSETTO:+0100
TZNAME:Europe/Lisbon WEST
END:DAYLIGHT
BEGIN:DAYLIGHT
DTSTART:20200329T020000
RDATE:20201025T010000
TZOFFSETFROM:+0000
TZOFFSETTO:+0100
TZNAME:Europe/Lisbon WEST
END:DAYLIGHT
END:VTIMEZONE
BEGIN:VEVENT
UID:2e4794e6286fe88532d05f2e9d202b2c
CATEGORIES:Santos
SUMMARY:São Pedro Tomás
DESCRIPTION;ENCODING=QUOTED-PRINTABLE:São Pedro Tomás nasceu em 1305, em França. Os pais de São Pedro Tomás vivia
 m numa pobreza extrema, o que levou São Pedro Tomás a abandonar o lar muito
  cedo, para não ser pesado para os seus familiares. São Pedro Tomás era de 
 estatura baixa, mas possuía uma inteligência rara e profunda. Vivendo de es
 molas, São Pedro Tomás conseguiu estudar, tornando-se mestre e professor co
 m apenas 17 anos.\nSão Pedro Tomás foi convidado para ser professor dos est
 udantes carmelitas, vindo a ingressar na Ordem em 1327. São Pedro Tomás ens
 inou várias matérias em muitos conventos da Ordem Carmelita, até ser nomead
 o Procurador da Ordem junto da Santa Sé, que se encontrava em Avinhão.\nSão
  Pedro Tomás, foi co-fundador da Faculdade de Teologia na Universidade de B
 olonha. O Papa fê-lo seu Núncio e Legado, encomendando a São Pedro Tomás mu
 itas e difíceis missões que São Pedro Tomás resolveu sempre bem, junto de r
 eis e imperadores.\nSão Pedro Tomás foi arauto e apóstolo incansável da paz
  e da unidade da Igreja, e aos 49 anos foi eleito bispo. Foi nomeado Patria
 rca de Constantinopla em 1364.\nApesar de ter exercido altos cargos, São Pe
 dro Tomás nas suas viagens procurava sempre, os conventos carmelitas para v
 iver em comunidade.\nPediu para ser sepultado com o hábito da Ordem Carmeli
 ta, prescindindo das vestes de bispo. Veio a falecer em 1366 no Convento do
  Carmo de Famagusta no Chipre.\n\nNascimento: ano 1305 d.C., em Périgord, F
 rança\nMorte: 6 de janeiro do ano 1366 d.C., em Famagusta, Chipre\n
DTSTAMP:20260419T192354Z
DTSTART;TZID=Europe/Lisbon;VALUE=DATE:20180108
DTEND;TZID=Europe/Lisbon;VALUE=DATE:20180109
SEQUENCE:0
TRANSP:OPAQUE
END:VEVENT
END:VCALENDAR